BEGIN:VCALENDAR
VERSION:2.0
PRODID:-//Westminster Presbyterian Church - ECPv6.15.20//NONSGML v1.0//EN
CALSCALE:GREGORIAN
METHOD:PUBLISH
X-ORIGINAL-URL:https://westminsterlincoln.org
X-WR-CALDESC:Events for Westminster Presbyterian Church
REFRESH-INTERVAL;VALUE=DURATION:PT1H
X-Robots-Tag:noindex
X-PUBLISHED-TTL:PT1H
BEGIN:VTIMEZONE
TZID:UTC
BEGIN:STANDARD
TZOFFSETFROM:+0000
TZOFFSETTO:+0000
TZNAME:UTC
DTSTART:20170101T000000
END:STANDARD
END:VTIMEZONE
BEGIN:VEVENT
DTSTART;TZID=UTC:20180605T113000
DTEND;TZID=UTC:20180605T130000
DTSTAMP:20260420T215435
CREATED:20180515T140223Z
LAST-MODIFIED:20180515T140223Z
UID:14645-1528198200-1528203600@westminsterlincoln.org
SUMMARY:Lunch Bunch
DESCRIPTION:We are meeting at Mi Tierra at 5500 Old Cheney Road on  June 5th at 11:30 am.  Please join us for lunch & great fellowship! This inter-generational group of men and women gather the first Tuesday of the month throughout the year at different Lincoln restaurants for friendship and lively conversation over lunch. All are welcome!\nContact:Larry Wieskamp
URL:https://westminsterlincoln.org/event/lunch-bunch-6/
LOCATION:Mi Tierra\, United States
ATTACH;FMTTYPE=image/jpeg:https://westminsterlincoln.org/wp-content/uploads/2018/05/LunchBunch-June.jpg
END:VEVENT
END:VCALENDAR