BEGIN:VCALENDAR
VERSION:2.0
PRODID:-//Westminster Presbyterian Church - ECPv6.15.20//NONSGML v1.0//EN
CALSCALE:GREGORIAN
METHOD:PUBLISH
X-WR-CALNAME:Westminster Presbyterian Church
X-ORIGINAL-URL:https://westminsterlincoln.org
X-WR-CALDESC:Events for Westminster Presbyterian Church
REFRESH-INTERVAL;VALUE=DURATION:PT1H
X-Robots-Tag:noindex
X-PUBLISHED-TTL:PT1H
BEGIN:VTIMEZONE
TZID:UTC
BEGIN:STANDARD
TZOFFSETFROM:+0000
TZOFFSETTO:+0000
TZNAME:UTC
DTSTART:20180101T000000
END:STANDARD
END:VTIMEZONE
BEGIN:VEVENT
DTSTART;TZID=UTC:20190624T170000
DTEND;TZID=UTC:20190624T183000
DTSTAMP:20260422T053401
CREATED:20190618T202643Z
LAST-MODIFIED:20190618T202643Z
UID:15853-1561395600-1561401000@westminsterlincoln.org
SUMMARY:Financial Leadership Council
DESCRIPTION:
URL:https://westminsterlincoln.org/event/financial-leadership-council/
LOCATION:Conference Room
END:VEVENT
END:VCALENDAR