BEGIN:VCALENDAR
VERSION:2.0
PRODID:-//Westminster Presbyterian Church - ECPv6.15.20//NONSGML v1.0//EN
CALSCALE:GREGORIAN
METHOD:PUBLISH
X-ORIGINAL-URL:https://westminsterlincoln.org
X-WR-CALDESC:Events for Westminster Presbyterian Church
REFRESH-INTERVAL;VALUE=DURATION:PT1H
X-Robots-Tag:noindex
X-PUBLISHED-TTL:PT1H
BEGIN:VTIMEZONE
TZID:UTC
BEGIN:STANDARD
TZOFFSETFROM:+0000
TZOFFSETTO:+0000
TZNAME:UTC
DTSTART:20180101T000000
END:STANDARD
END:VTIMEZONE
BEGIN:VEVENT
DTSTART;TZID=UTC:20190624T190000
DTEND;TZID=UTC:20190624T210000
DTSTAMP:20260423T040511
CREATED:20190618T202808Z
LAST-MODIFIED:20190618T202808Z
UID:15859-1561402800-1561410000@westminsterlincoln.org
SUMMARY:Recovery Group
DESCRIPTION:
URL:https://westminsterlincoln.org/event/recovery-group/
LOCATION:210 A
END:VEVENT
END:VCALENDAR