BEGIN:VCALENDAR
VERSION:2.0
PRODID:-//Westminster Presbyterian Church - ECPv6.15.20//NONSGML v1.0//EN
CALSCALE:GREGORIAN
METHOD:PUBLISH
X-ORIGINAL-URL:https://westminsterlincoln.org
X-WR-CALDESC:Events for Westminster Presbyterian Church
REFRESH-INTERVAL;VALUE=DURATION:PT1H
X-Robots-Tag:noindex
X-PUBLISHED-TTL:PT1H
BEGIN:VTIMEZONE
TZID:UTC
BEGIN:STANDARD
TZOFFSETFROM:+0000
TZOFFSETTO:+0000
TZNAME:UTC
DTSTART:20230101T000000
END:STANDARD
END:VTIMEZONE
BEGIN:VEVENT
DTSTART;VALUE=DATE:20240128
DTEND;VALUE=DATE:20240212
DTSTAMP:20260419T180047
CREATED:20240125T002151Z
LAST-MODIFIED:20240125T002304Z
UID:22997-1706400000-1707695999@westminsterlincoln.org
SUMMARY:Souper Bowl of Caring: Soup-er Bowl Can Drive and Collection
DESCRIPTION:Along with the Souper Bowl of Caring collection\, this year the Westminster Youth Group is also sponsoring a Soup-er Bowl Soup Can drive\, ending on February 11\, Souper Bowl Sunday. We invite you to bring cans or boxes of soup to church and drop them off in the tote with a Souper Bowl of Caring sign at the top of the East stairs. \nSoup donations will benefit the Westminster Food Pantry. The Souper Bowl of Caring is a national movement to fight hunger and poverty by encouraging giving in local communities. Westminster’s monetary collection will be split between The Gathering Place and Matt Talbot Kitchen & Outreach. \nIf you have any questions\, contact Trish at trish@westminsterlincoln.org.
URL:https://westminsterlincoln.org/event/souper-bowl-of-caring-soup-er-bowl-can-drive-and-collection/
CATEGORIES:Fellowship,Special Event
ATTACH;FMTTYPE=image/png:https://westminsterlincoln.org/wp-content/uploads/2024/01/Soup-Can-Drive-e1706140648797.png
END:VEVENT
BEGIN:VEVENT
DTSTART;TZID=UTC:20240204T104500
DTEND;TZID=UTC:20240204T234500
DTSTAMP:20260419T180047
CREATED:20240124T222918Z
LAST-MODIFIED:20240124T223034Z
UID:22982-1707043500-1707090300@westminsterlincoln.org
SUMMARY:Adult Education
DESCRIPTION:Adult Ed has scheduled an important offering under the banner of “Hard Topics”. We will have a guided discussion over the Israel-Gaza October 7th incident and ensuing conflict. Peter Levitov\, Retired Associate Dean of International Affairs at University of Nebraska\, and Immigration lawyer\, will moderate. In preparation\, contact Joanne Gabriel joanne@westminsterlincoln.org at the church office to be sent a 2 page Word doc summary of the region prepared by Peter. \n\nClick on the link below for informative maps:\nhttps://www.aljazeera.com/news/2023/11/27/palestine-and-israel-brief-history-maps-and-charts?fbclid=IwAR0KFG9p5jE8N3Nxy3IVbK4JsD9hWQrMm7972WnIQjcfs98osHMNZ9uUCXw
URL:https://westminsterlincoln.org/event/adult-education-29/
CATEGORIES:Fellowship,small group,Special Event
ATTACH;FMTTYPE=image/png:https://westminsterlincoln.org/wp-content/uploads/2024/01/Hard-Topics-e1706135345995.png
END:VEVENT
BEGIN:VEVENT
DTSTART;TZID=UTC:20240206T113000
DTEND;TZID=UTC:20240206T130000
DTSTAMP:20260419T180047
CREATED:20240201T044239Z
LAST-MODIFIED:20240201T044239Z
UID:23005-1707219000-1707224400@westminsterlincoln.org
SUMMARY:Lunch Bunch
DESCRIPTION:Famous Dave’s Bar-B-Que\, 2750 Pine Lake Road\nTuesday\, February 6\, 11:30 A.M.\n\nAs always\, no agenda\, no program\, just fun. All are welcome. Please RSVP to Jim Kinkennon at jimkinkennon@gmail.com so we have an accurate count.
URL:https://westminsterlincoln.org/event/lunch-bunch-51/
CATEGORIES:Fellowship,Life Group,Lunch Bunch,small group
ATTACH;FMTTYPE=image/png:https://westminsterlincoln.org/wp-content/uploads/2024/02/Lunch-Bunch-e1706762531826.png
END:VEVENT
BEGIN:VEVENT
DTSTART;TZID=UTC:20240210T090000
DTEND;TZID=UTC:20240210T170000
DTSTAMP:20260419T180047
CREATED:20240111T174634Z
LAST-MODIFIED:20240111T174634Z
UID:22857-1707555600-1707584400@westminsterlincoln.org
SUMMARY:History Buffs
DESCRIPTION:“The History of Cardiac Surgery and Development of the Heart/Lung Machine” \nWeather permitting\, there will be a History Buffs program on Saturday\, February 10 at 9:00 am in the Lounge. Presented by Dr. Ryan Shelstad. Watch our FB Page for updates.  \n 
URL:https://westminsterlincoln.org/event/history-buffs-29/
CATEGORIES:Fellowship,Life Group,small group,Special Event
ATTACH;FMTTYPE=image/png:https://westminsterlincoln.org/wp-content/uploads/2024/01/History-Buffs-February-e1704995047797.png
END:VEVENT
BEGIN:VEVENT
DTSTART;TZID=UTC:20240211T090000
DTEND;TZID=UTC:20240211T110000
DTSTAMP:20260419T180047
CREATED:20240201T190510Z
LAST-MODIFIED:20240201T190510Z
UID:23019-1707642000-1707649200@westminsterlincoln.org
SUMMARY:Souper Bowl of Caring
DESCRIPTION:On the weekend of February 11th\, 150 million Americans will watch the Super Bowl football game. There will be parties with food\, friendship\, and fellowship\, but at the same time\, there will be other people worried about staying warm and finding their next meal. The Westminster Lincoln Youth Group invites you to join with others around the country in demonstrating God’s love by loving our neighbors through the Souper Bowl of Caring. \nOur youth will join the drive again this year\, collecting money on the 11th for Matt Talbot Kitchen & Outreach and the Gathering Place in Lincoln. Matt Talbot has served the homeless and near homeless for nearly 28 years\, with feeding the hungry as the core of their mission. The Gathering Place was founded in 1982 and is a soup kitchen that provides over 27\,000 hot\, nourishing evening meals to those who are homeless\, near-homeless\, or otherwise food-insecure in Lincoln each year. \nWe ask you to join this important movement\, sharing God’s love with those in need. Please give generously on Super Bowl Sunday — look for youth group representatives holding soup pots by the sanctuary exits. Every dollar donated creates over $20 for food charities\, which means that a gift in any amount is greatly appreciated and truly makes a difference. Join us as we help #TackleHunger through @souperbowl. 100% of all donations benefit Matt Talbot Kitchen & Outreach and the Gathering Place.
URL:https://westminsterlincoln.org/event/souper-bowl-of-caring-3/
CATEGORIES:Fellowship,Special Event
ATTACH;FMTTYPE=image/png:https://westminsterlincoln.org/wp-content/uploads/2024/02/SouperBowl-logo.png
END:VEVENT
BEGIN:VEVENT
DTSTART;TZID=UTC:20240211T093000
DTEND;TZID=UTC:20240211T103000
DTSTAMP:20260419T180047
CREATED:20240111T181835Z
LAST-MODIFIED:20240111T181835Z
UID:22950-1707643800-1707647400@westminsterlincoln.org
SUMMARY:Sunday Worship
DESCRIPTION:Join us in the Sanctuary on Sundays at 9:30 a.m. or watch Lincoln Westminster Presbyterian Church Virtual Worship Here:  https://westminsterlincoln.org/youtube-videos/\nTo access our Live View Service:\n\nGo to the YouTube Services page on our website.\nClick on the “Click Here to Watch Live at 9:30am” sentence link if you intend to watch live or while the service is taking place (9:30-10:30/10:40am).\nIf watching live\, the video should appear as the most recent video with a title using our worship date (example: 12.5.21 Worship LIVE). Click that video to be taken to the larger version.\n\nPlease note the service may not appear on the Westminster Website in the playlist (boxes you click to watch) until the service has concluded. Please view using the Click Here link or direct YouTube link!\n\n\n\n\n\nDownload Your Virtual Worship Bulletin: https://westminsterlincoln.org/worship-bulletins/\n  \n\nWorship will also be televised on Spectrum channel 1302 and Windstream channel 13 at 12:30 PM on Thursday and 1:00 PM on Saturday.
URL:https://westminsterlincoln.org/event/sunday-worship-73/
CATEGORIES:Fellowship,religion
ATTACH;FMTTYPE=image/jpeg:https://westminsterlincoln.org/wp-content/uploads/2021/05/worship-main-image-e1676320599514.jpg
END:VEVENT
BEGIN:VEVENT
DTSTART;TZID=UTC:20240211T104500
DTEND;TZID=UTC:20240211T114500
DTSTAMP:20260419T180047
CREATED:20240201T191209Z
LAST-MODIFIED:20240201T193707Z
UID:23023-1707648300-1707651900@westminsterlincoln.org
SUMMARY:Pancakes & Sausage Breakfast
DESCRIPTION:LiNK Sunday: Pancakes & Sausage \nFebruary 11\, 2023 10:45 AM \nAfter the service on Sunday\, February 11\, the Children and Youth and Church Life Committees invite you to enjoy an early Shrove Tuesday breakfast of pancakes and sausage in Fellowship Hall.
URL:https://westminsterlincoln.org/event/pancakes-sausage-breakfast/
CATEGORIES:Fellowship,Life Group,small group,Special Event
ATTACH;FMTTYPE=image/png:https://westminsterlincoln.org/wp-content/uploads/2024/02/Pancakes-copy-e1706816213501.png
END:VEVENT
BEGIN:VEVENT
DTSTART;TZID=UTC:20240214T181500
DTEND;TZID=UTC:20240214T190000
DTSTAMP:20260419T180047
CREATED:20240213T151353Z
LAST-MODIFIED:20240213T151353Z
UID:23054-1707934500-1707937200@westminsterlincoln.org
SUMMARY:Ash Wednesday Worship
DESCRIPTION:Come join us as we gather for Ash Wednesday worship \nAsh Wednesday marks the beginning of our journey to Easter as we walk with Jesus through the final weeks of his ministry. This day we remember our own humanity and our need for God through the imposition of ashes made from the palm fronds of last year’s Palm Sunday. \nOur Ash Wednesday worship service will be at 6:15 pm in the Sanctuary. This deeply spiritual service will help prepare our hearts for the season of Lent.
URL:https://westminsterlincoln.org/event/ash-wednesday-worship-3/
CATEGORIES:Wednesday Nights,worship
END:VEVENT
BEGIN:VEVENT
DTSTART;TZID=UTC:20240218T093000
DTEND;TZID=UTC:20240218T103000
DTSTAMP:20260419T180047
CREATED:20240216T055434Z
LAST-MODIFIED:20240216T055434Z
UID:23109-1708248600-1708252200@westminsterlincoln.org
SUMMARY:Annual Meeting of the Congregation
DESCRIPTION:Annual Meeting of the Congregation \nSunday\, February 18\, 2024 \nThe Annual Stated Meeting of the Congregation will be held on Sunday\, Feb. 18\, following the worship service. The agenda includes proposed bylaws changes\, the presentation of the 2023 annual reports\, the presentation of the 2024 budget and the approval of the pastor’s terms of call for 2024. \nThe February Messenger\, which contains annual reports from the committees at Westminster as well as other information\, is available on the church’s website—westminsterlincoln.org.
URL:https://westminsterlincoln.org/event/annual-meeting-of-the-congregation/
CATEGORIES:Fellowship,religion,Special Event
ATTACH;FMTTYPE=image/png:https://westminsterlincoln.org/wp-content/uploads/2024/02/Black-Golden-Church-Facebook-Post-940-×-788-px-Presentation-169-e1708062775847.png
END:VEVENT
BEGIN:VEVENT
DTSTART;VALUE=DATE:20240219
DTEND;VALUE=DATE:20240220
DTSTAMP:20260419T180047
CREATED:20240216T073326Z
LAST-MODIFIED:20240216T073326Z
UID:23112-1708300800-1708387199@westminsterlincoln.org
SUMMARY:Church Office Closed
DESCRIPTION:Westminster’s office will be closed Monday\, February 19th for the President’s Day holiday.
URL:https://westminsterlincoln.org/event/church-office-closed/
CATEGORIES:Special Event
ATTACH;FMTTYPE=image/png:https://westminsterlincoln.org/wp-content/uploads/2024/02/Presidents-Day-e1708068796197.png
END:VEVENT
BEGIN:VEVENT
DTSTART;TZID=UTC:20240221T130000
DTEND;TZID=UTC:20240221T150000
DTSTAMP:20260419T180047
CREATED:20240201T185807Z
LAST-MODIFIED:20240201T185807Z
UID:23015-1708520400-1708527600@westminsterlincoln.org
SUMMARY:Prairie Readers
DESCRIPTION:Prairie Readers will meet Wednesday\, February 21 at 1 PM in the Lounge.  \nDiana Wild will lead the discussion of Foster by Claire Keegan. This book is one the The Times( UK) Top 50 novels published in the 21st Century. This is a beautifully written story that tugs at your heart. It is a small size (5×7) and has only 92 pages!  \nAll are Welcome!!  \n  \n  \n 
URL:https://westminsterlincoln.org/event/prairie-readers-52/
CATEGORIES:Book Club,Fellowship,Life Group,small group
ATTACH;FMTTYPE=image/png:https://westminsterlincoln.org/wp-content/uploads/2024/02/Prairie-Readers-copy-e1706813870619.png
END:VEVENT
BEGIN:VEVENT
DTSTART;TZID=UTC:20240228T180000
DTEND;TZID=UTC:20240228T200000
DTSTAMP:20260419T180047
CREATED:20240213T155542Z
LAST-MODIFIED:20240213T155542Z
UID:23067-1709143200-1709150400@westminsterlincoln.org
SUMMARY:Youth Group: Murder Mystery
DESCRIPTION:Join us for an evening of mystery and mayhem. Please let Trish know if you are interested in attending at trish@westminsterlincoln.org.
URL:https://westminsterlincoln.org/event/youth-group-murder-mystery/
END:VEVENT
BEGIN:VEVENT
DTSTART;TZID=UTC:20240229T170000
DTEND;TZID=UTC:20240229T190000
DTSTAMP:20260419T180047
CREATED:20240201T172834Z
LAST-MODIFIED:20240201T172834Z
UID:23009-1709226000-1709233200@westminsterlincoln.org
SUMMARY:Ladie's Night Out
DESCRIPTION:Ladies’ Night Out  \nThursday\, February 29th\, LEAP YEAR\, from 5:00-7:00 p.m.  \nYou are invited to join us this month at BILLY’S! Their address is 301 H Street. This year our prearranged price for family-style heavy appetizers will be $17.00/per person\, cost of drink and\ntip additional. Please RSVP by Saturday\, February 26r to robynu2@hotmail.com.
URL:https://westminsterlincoln.org/event/ladies-night-out-54/
CATEGORIES:Fellowship,Ladies Nigt Out,Life Group,small group
ATTACH;FMTTYPE=image/png:https://westminsterlincoln.org/wp-content/uploads/2024/02/LNO-e1706808435226.png
END:VEVENT
END:VCALENDAR