BEGIN:VCALENDAR
VERSION:2.0
PRODID:-//Westminster Presbyterian Church - ECPv6.15.20//NONSGML v1.0//EN
CALSCALE:GREGORIAN
METHOD:PUBLISH
X-ORIGINAL-URL:https://westminsterlincoln.org
X-WR-CALDESC:Events for Westminster Presbyterian Church
REFRESH-INTERVAL;VALUE=DURATION:PT1H
X-Robots-Tag:noindex
X-PUBLISHED-TTL:PT1H
BEGIN:VTIMEZONE
TZID:UTC
BEGIN:STANDARD
TZOFFSETFROM:+0000
TZOFFSETTO:+0000
TZNAME:UTC
DTSTART:20220101T000000
END:STANDARD
END:VTIMEZONE
BEGIN:VEVENT
DTSTART;TZID=UTC:20230605T090000
DTEND;TZID=UTC:20230609T120000
DTSTAMP:20260421T080156
CREATED:20230315T012148Z
LAST-MODIFIED:20230315T013450Z
UID:21808-1685955600-1686312000@westminsterlincoln.org
SUMMARY:Vacation Bible School 2023: Make Waves
DESCRIPTION:“What you do today can change the world around you”. \nIt’s time to get your kids registered for VBS! Kids age 4 through 5th grade are invited to register before June 3 at https://vbsmate.com/westminsterlincoln. Registration is $15/child ($45 max/family). Adult and youth volunteers are welcome to sign up at the same link.
URL:https://westminsterlincoln.org/event/vacation-bible-school-2023-make-waves/
CATEGORIES:bible study,religion,Special Event
ATTACH;FMTTYPE=image/png:https://westminsterlincoln.org/wp-content/uploads/2023/03/5.png
END:VEVENT
BEGIN:VEVENT
DTSTART;TZID=UTC:20230606T113000
DTEND;TZID=UTC:20230606T130000
DTSTAMP:20260421T080156
CREATED:20230518T213103Z
LAST-MODIFIED:20230518T213235Z
UID:22047-1686051000-1686056400@westminsterlincoln.org
SUMMARY:Lunch Bunch
DESCRIPTION:Lunch Bunch will meet at Hacienda Real\, 3130 Pine Lake Rd\, on Tuesday\, June 6\, at 11:30 A.M.\n\nPlease R.S.V.P. to Jim Kinkennon at jimkinkennon@gmail.com so that the restaurant can prepare for our group.
URL:https://westminsterlincoln.org/event/lunch-bunch-44/
CATEGORIES:Fellowship,Life Group,Lunch Bunch,small group
ATTACH;FMTTYPE=image/png:https://westminsterlincoln.org/wp-content/uploads/2023/05/Lunch-Bunch-FB-e1684445439136.png
END:VEVENT
BEGIN:VEVENT
DTSTART;TZID=UTC:20230618T093000
DTEND;TZID=UTC:20230618T103000
DTSTAMP:20260421T080156
CREATED:20230613T004600Z
LAST-MODIFIED:20240111T181434Z
UID:22203-1687080600-1687084200@westminsterlincoln.org
SUMMARY:Sunday Worship
DESCRIPTION:Join us in the Sanctuary on Sundays at 9:30 a.m. or watch Lincoln Westminster Presbyterian Church Virtual Worship Here:  https://westminsterlincoln.org/youtube-videos/\nTo access our Live View Service:\n\nGo to the YouTube Services page on our website.\nClick on the “Click Here to Watch Live at 9:30am” sentence link if you intend to watch live or while the service is taking place (9:30-10:30/10:40am).\nIf watching live\, the video should appear as the most recent video with a title using our worship date (example: 12.5.21 Worship LIVE). Click that video to be taken to the larger version.\n\nPlease note the service may not appear on the Westminster Website in the playlist (boxes you click to watch) until the service has concluded. Please view using the Click Here link or direct YouTube link!\n\n\n\n\n\nDownload Your Virtual Worship Bulletin: https://westminsterlincoln.org/worship-bulletins/\n  \n\nWorship will also be televised on Spectrum channel 1302 and Windstream channel 13 at 12:30 PM on Thursday and 1:00 PM on Saturday.
URL:https://westminsterlincoln.org/event/sunday-worship-70/2023-06-18/
CATEGORIES:Fellowship,religion,worship
ATTACH;FMTTYPE=image/jpeg:https://westminsterlincoln.org/wp-content/uploads/2021/05/worship-main-image-e1676320599514.jpg
END:VEVENT
BEGIN:VEVENT
DTSTART;TZID=UTC:20230618T093000
DTEND;TZID=UTC:20230618T103000
DTSTAMP:20260421T080156
CREATED:20230613T004852Z
LAST-MODIFIED:20230613T005507Z
UID:22228-1687080600-1687084200@westminsterlincoln.org
SUMMARY:Worship Series
DESCRIPTION:What to Expect in Worship: Sunday\, June 18th \n\n\n\n\n\n\n\n\n\nOn June 18th\, we continue our series\, The Meaning of Our Calling with teachings of Jesus found in Matthew 9:35-10:14. We’ll find that when it comes to our lives of faith\, “A Plentiful Harvest Means Plenty of Work.” Hymns will be the familiar classic\, “Great is Thy Faithfulness\,” and a less-familiar hymn text set to a familiar melody\, “We Come To You for Healing\, Lord.” We’ll also celebrate another baptism – on of our great joys as a church family!
URL:https://westminsterlincoln.org/event/worship-series/
CATEGORIES:Fellowship,religion,worship
ATTACH;FMTTYPE=image/png:https://westminsterlincoln.org/wp-content/uploads/2023/06/UPDATE-Meaning-of-Our-Calling-Last-Two-Weeks-w-Scriptures-2-e1686617308201.png
END:VEVENT
BEGIN:VEVENT
DTSTART;TZID=UTC:20230620T120000
DTEND;TZID=UTC:20230620T133000
DTSTAMP:20260421T080156
CREATED:20230609T222310Z
LAST-MODIFIED:20230609T222310Z
UID:22194-1687262400-1687267800@westminsterlincoln.org
SUMMARY:Bag Lunch Book Discussion with Pastor Chris
DESCRIPTION:Growing Young: 6 Essential Strategies to Help Young People Discover and Love Your Church \nTuesday\, June 20 at Noon | WPC Library \nWhat are our core commitments as a congregation\, and how do they compare to churches that are vital and vibrant in this “post-Christian” world? Pack a lunch and come explore these and similar questions with Pastor Chris during our first series of “Bag Lunch Book Discussions” focusing on Study\, Discussion\, and Table Fellowship.
URL:https://westminsterlincoln.org/event/bag-lunch-book-discussion-with-pastor-chris/
CATEGORIES:Fellowship,religion,small group,Special Event
ATTACH;FMTTYPE=image/jpeg:https://westminsterlincoln.org/wp-content/uploads/2023/06/353001364_10160898995979530_8230237589260097783_n-e1686349363963.jpg
END:VEVENT
BEGIN:VEVENT
DTSTART;TZID=UTC:20230621T130000
DTEND;TZID=UTC:20230621T150000
DTSTAMP:20260421T080156
CREATED:20230521T170716Z
LAST-MODIFIED:20230521T181813Z
UID:22056-1687352400-1687359600@westminsterlincoln.org
SUMMARY:Prairie Readers
DESCRIPTION:Prairie Readers will meet Wednesday\, June 21 at 1 PM in the lounge.  The book to be discussed is “Still Life” by Sarah Winman\, The facilitator is Barbara Schliesser.  “This sweeping\, historical tale brings together an unlikely group of friends – a young English soldier\, an aging art historian\, a pub owner\, a pianist and more – in an epic set against the backdrop of mid-to-late-20th-century Florence.” –USA Today
URL:https://westminsterlincoln.org/event/prairie-readers-45/
CATEGORIES:Book Club,Fellowship,Life Group,small group
ATTACH;FMTTYPE=image/png:https://westminsterlincoln.org/wp-content/uploads/2023/05/Book-Club-e1684688812773.png
END:VEVENT
BEGIN:VEVENT
DTSTART;TZID=UTC:20230625T093000
DTEND;TZID=UTC:20230625T093000
DTSTAMP:20260421T080156
CREATED:20230613T005028Z
LAST-MODIFIED:20230613T005028Z
UID:22231-1687685400-1687685400@westminsterlincoln.org
SUMMARY:Worship Series
DESCRIPTION:What to Expect in Worship: Sunday\, June 25th \nOn June 25th\, we continue our series\, The Meaning of Our Calling with a prophetic word from Jeremiah 20:7-13 and another challenging teaching by Jesus\, found in Matthew 10:24-39. We’ll find that\, even when it’s beyond our comfort zones\, “Speaking Jesus Means Speaking Boldly.” Hymns are Lift High the Cross and Take Up Your Cross\, Your Savior Said (do you sense the theme?!?). We’ll also celebrate a baptism and welcome new members!
URL:https://westminsterlincoln.org/event/worship-series-2/
CATEGORIES:Fellowship,religion
ATTACH;FMTTYPE=image/png:https://westminsterlincoln.org/wp-content/uploads/2023/06/UPDATE-Meaning-of-Our-Calling-Last-Two-Weeks-w-Scriptures-2-e1686617308201.png
END:VEVENT
BEGIN:VEVENT
DTSTART;TZID=UTC:20230625T093000
DTEND;TZID=UTC:20230625T103000
DTSTAMP:20260421T080156
CREATED:20230612T155151Z
LAST-MODIFIED:20230612T155151Z
UID:22197-1687685400-1687689000@westminsterlincoln.org
SUMMARY:New Member Sunday
DESCRIPTION:Wish to join Westminster? We’ll welcome New Members in worship on Sunday\, June 25th. Questions or wish to learn more about this opportunity? \nContact Pastor Chris at chris@westminsterlincoln.org. Membership information is available in the rack at the East entry and on our website at: https://westminsterlincoln.org/membership-at-westminster/. A “Westminster Welcome” learning session will be scheduled based on the availability of those planning to join.
URL:https://westminsterlincoln.org/event/new-member-sunday/
CATEGORIES:Fellowship,religion,Special Event
ATTACH;FMTTYPE=image/jpeg:https://westminsterlincoln.org/wp-content/uploads/2023/06/new-member-sunday.jpg
END:VEVENT
BEGIN:VEVENT
DTSTART;TZID=UTC:20230629T170000
DTEND;TZID=UTC:20230629T190000
DTSTAMP:20260421T080156
CREATED:20230617T163701Z
LAST-MODIFIED:20230620T200622Z
UID:22239-1688058000-1688065200@westminsterlincoln.org
SUMMARY:Ladies Night Out
DESCRIPTION:You are invited to join us this month at Billy’s Restaurant 1301 H Street. Nader will prepare an assortment of hardy appetizers served family style. Cost is the pre-arranged price of $15/person; plus cost of drink\, tax and tip. \nWhen: Thursday\, June 29th  5-7 PM \n*Kindly RSVP to me by Sunday\, June 25 to robynu2@hotmail.com. \nAs always\, feel free to bring a friend! This is a very fluid group – we are happy to see you whenever it works into your schedule. We do ask that you RSVP your attendance so we will have a seat for you at the table. \nThis year we will gather every other month at Billy’s and choose restaurants throughout Lincoln for the remaining months. If you have any suggestions\, please let us know.
URL:https://westminsterlincoln.org/event/ladies-night-out-47/
CATEGORIES:Ladies Nigt Out,Life Group,small group
ATTACH;FMTTYPE=image/png:https://westminsterlincoln.org/wp-content/uploads/2023/06/LNO-1-e1687291568350.png
END:VEVENT
END:VCALENDAR