BEGIN:VCALENDAR
VERSION:2.0
PRODID:-//Westminster Presbyterian Church - ECPv6.15.20//NONSGML v1.0//EN
CALSCALE:GREGORIAN
METHOD:PUBLISH
X-ORIGINAL-URL:https://westminsterlincoln.org
X-WR-CALDESC:Events for Westminster Presbyterian Church
REFRESH-INTERVAL;VALUE=DURATION:PT1H
X-Robots-Tag:noindex
X-PUBLISHED-TTL:PT1H
BEGIN:VTIMEZONE
TZID:UTC
BEGIN:STANDARD
TZOFFSETFROM:+0000
TZOFFSETTO:+0000
TZNAME:UTC
DTSTART:20210101T000000
END:STANDARD
END:VTIMEZONE
BEGIN:VEVENT
DTSTART;TZID=UTC:20220802T113000
DTEND;TZID=UTC:20220802T130000
DTSTAMP:20260423T040353
CREATED:20220713T152546Z
LAST-MODIFIED:20220713T154124Z
UID:20427-1659439800-1659445200@westminsterlincoln.org
SUMMARY:Lunch Bunch
DESCRIPTION:Lunch Bunch will meet at Art & Soul\, 5740 Hidcote Drive on Tuesday\, August 2\, at 11:30 A.M. \nThis is close to 56th and Pine Lake Road.  RSVP to Jim Kinkennon at  jimkinkennon@gmail.com..
URL:https://westminsterlincoln.org/event/lunch-bunch-34/
CATEGORIES:Fellowship,Life Group,small group
ATTACH;FMTTYPE=image/png:https://westminsterlincoln.org/wp-content/uploads/2022/07/Lunch-Bunch-August.png
END:VEVENT
BEGIN:VEVENT
DTSTART;TZID=UTC:20220811T183000
DTEND;TZID=UTC:20220811T200000
DTSTAMP:20260423T040353
CREATED:20220627T175003Z
LAST-MODIFIED:20220627T175003Z
UID:20306-1660242600-1660248000@westminsterlincoln.org
SUMMARY:Westminster Pool Party
DESCRIPTION:Westminster Pool Party\n \nAugust 11\, 6:30 PM-8:00 PM \nWe will wrap up the summer with an all-church Pool Party at Star City Shores. Bring your family and friends and join us from 6:30-8:00. 
URL:https://westminsterlincoln.org/event/westminster-pool-party/
CATEGORIES:Fellowship,Life Group
ATTACH;FMTTYPE=image/jpeg:https://westminsterlincoln.org/wp-content/uploads/2022/06/Pool-Party.jpg
END:VEVENT
BEGIN:VEVENT
DTSTART;TZID=UTC:20220814T093000
DTEND;TZID=UTC:20220814T103000
DTSTAMP:20260423T040353
CREATED:20220714T191923Z
LAST-MODIFIED:20220715T034231Z
UID:20430-1660469400-1660473000@westminsterlincoln.org
SUMMARY:Blessing of the Backpacks
DESCRIPTION:We will be Blessing Backpacks on August 14 During Worship\n\nIf you are a student or educator of any kind\, come receive your blessing for the coming year. Students of all ages are encouraged to bring your backpacks to receive blessings to begin the school year with the positive energy of prayers for your safety\, health\, happiness and continued growth.
URL:https://westminsterlincoln.org/event/blessing-of-the-backpacks-4/
CATEGORIES:Fellowship,religion,worship
ATTACH;FMTTYPE=image/png:https://westminsterlincoln.org/wp-content/uploads/2022/07/Blessings-of-the-backpacks.png
END:VEVENT
BEGIN:VEVENT
DTSTART;TZID=UTC:20220816T190000
DTEND;TZID=UTC:20220816T200000
DTSTAMP:20260423T040353
CREATED:20220704T144116Z
LAST-MODIFIED:20230518T212607Z
UID:20331-1660676400-1660680000@westminsterlincoln.org
SUMMARY:Faith & Cancer
DESCRIPTION:Faith & Cancer\nCancer is associated with many emotions wrapped up within. In our support group at Westminster  we can share those thoughts and feelings with others who are experiencing similar concerns. No matter where you are in your journey\, this group is where cancer survivors can come together for fellowship\, prayer and study. All are welcome. \nThis Life Group meets every third Tuesday of the month from 7-8 PM in the church library. Contact: Bruce Sheffield or Janice Rohwedder for with any questions and/or more information.
URL:https://westminsterlincoln.org/event/faith-cancer-25/2022-08-16/
CATEGORIES:Fellowship,Support Group
ATTACH;FMTTYPE=image/png:https://westminsterlincoln.org/wp-content/uploads/2022/07/faithcancer_website-2-e1672715439228.png
END:VEVENT
BEGIN:VEVENT
DTSTART;TZID=UTC:20220817T130000
DTEND;TZID=UTC:20220817T150000
DTSTAMP:20260423T040353
CREATED:20220723T165047Z
LAST-MODIFIED:20220723T165307Z
UID:20468-1660741200-1660748400@westminsterlincoln.org
SUMMARY:Prairie Readers
DESCRIPTION:Prairie Readers | Wednesday\, August 17 | 1:00 p.m. in Lounge \nBook:  The Thursday Murder Club by Richard Osman \nDiscussion leader: Susie Hughes
URL:https://westminsterlincoln.org/event/prairie-readers-34/
CATEGORIES:Book Club,Fellowship,Life Group,small group
ATTACH;FMTTYPE=image/png:https://westminsterlincoln.org/wp-content/uploads/2022/07/Prairie-Readers-August-1.png
END:VEVENT
BEGIN:VEVENT
DTSTART;TZID=UTC:20220820T090000
DTEND;TZID=UTC:20220820T100000
DTSTAMP:20260423T040353
CREATED:20220721T145508Z
LAST-MODIFIED:20220721T145508Z
UID:20444-1660986000-1660989600@westminsterlincoln.org
SUMMARY:History Buffs
DESCRIPTION:Join us on Saturday\, August 20 at 9 am for a History Buffs presentation by Steve Larson. Feel welcome to bring a friend(s).\n\nThe B17 Bomber.\n\n“Used primarily in Europe during WWII\, the b17 was known more famously as the Flying Fortress.  Capable of flying long distances with a heavy payload\, the b17 would forever change the face of warfare.  The “Strategic Bombing” campaigns in which it was used represented a radical departure from more the traditional methods of waging war. The presentation is based upon the experiences of Lt. Wendell Larson; a 20 year-old navigator who flew 35 mission over Europe during the War.”
URL:https://westminsterlincoln.org/event/history-buffs-20/
CATEGORIES:Fellowship,Life Group,small group
ATTACH;FMTTYPE=image/png:https://westminsterlincoln.org/wp-content/uploads/2022/07/History-Buffs-1.png
END:VEVENT
BEGIN:VEVENT
DTSTART;TZID=UTC:20220827T093000
DTEND;TZID=UTC:20220827T103000
DTSTAMP:20260423T040353
CREATED:20220627T161814Z
LAST-MODIFIED:20220809T183034Z
UID:20299-1661592600-1661596200@westminsterlincoln.org
SUMMARY:Presbyterian Women Bible Study Fall Kickoff
DESCRIPTION:ALL Westminster Presbyterian Women are INVITED to the Fall Kickoff of the PW Bible Study\n\nWe will meet in Fellowship Hall on Saturday August 27th 9:30am to 10:30am Whether you are currently in a Circle or are curious about the Study\, all are WELCOME We will preview the Bible study Celebrating Sabbath.
URL:https://westminsterlincoln.org/event/prairie-readers-32/
CATEGORIES:bible study,Fellowship,Life Group,small group
ATTACH;FMTTYPE=image/png:https://westminsterlincoln.org/wp-content/uploads/2022/08/HZN22100-Celebrating-Sabbath-cover-752x1024-1.png
END:VEVENT
BEGIN:VEVENT
DTSTART;TZID=UTC:20220830T170000
DTEND;TZID=UTC:20220830T190000
DTSTAMP:20260423T040353
CREATED:20220723T163734Z
LAST-MODIFIED:20220723T163755Z
UID:20465-1661878800-1661886000@westminsterlincoln.org
SUMMARY:Ladies Night Out
DESCRIPTION:We will be gathering at L’s Kitchen at 2785 S 17th Street \nAs always\, feel free to bring a friend\, sister\, aunt\, daughter or mother to all our gatherings.
URL:https://westminsterlincoln.org/event/ladies-night-out-38/
CATEGORIES:Fellowship,Ladies Nigt Out,Life Group,small group
ATTACH;FMTTYPE=image/png:https://westminsterlincoln.org/wp-content/uploads/2022/07/Textured-Flowers-Ladies-Luncheon-Invitation-Presentation-169-1.png
END:VEVENT
BEGIN:VEVENT
DTSTART;VALUE=DATE:20220831
DTEND;VALUE=DATE:20220901
DTSTAMP:20260423T040353
CREATED:20220829T213110Z
LAST-MODIFIED:20221221T173859Z
UID:20569-1661904000-1661990399@westminsterlincoln.org
SUMMARY:Hearts & Hands is not meeting today due to the weather.
DESCRIPTION:Hearts & Hands is not meeting today due to the weather. Stay warm & safe!
URL:https://westminsterlincoln.org/event/hearts-hands-13/2022-08-31/
CATEGORIES:Fellowship,Heart & Hands,Life Group,small group
ATTACH;FMTTYPE=image/png:https://westminsterlincoln.org/wp-content/uploads/2022/08/Hearts-Hands-Logo.png
END:VEVENT
END:VCALENDAR