BEGIN:VCALENDAR
VERSION:2.0
PRODID:-//Westminster Presbyterian Church - ECPv6.15.20//NONSGML v1.0//EN
CALSCALE:GREGORIAN
METHOD:PUBLISH
X-ORIGINAL-URL:https://westminsterlincoln.org
X-WR-CALDESC:Events for Westminster Presbyterian Church
REFRESH-INTERVAL;VALUE=DURATION:PT1H
X-Robots-Tag:noindex
X-PUBLISHED-TTL:PT1H
BEGIN:VTIMEZONE
TZID:UTC
BEGIN:STANDARD
TZOFFSETFROM:+0000
TZOFFSETTO:+0000
TZNAME:UTC
DTSTART:20210101T000000
END:STANDARD
END:VTIMEZONE
BEGIN:VEVENT
DTSTART;TZID=UTC:20220705T113000
DTEND;TZID=UTC:20220705T130000
DTSTAMP:20260420T224210
CREATED:20220615T233446Z
LAST-MODIFIED:20220615T233446Z
UID:20261-1657020600-1657026000@westminsterlincoln.org
SUMMARY:Lunch Bunch
DESCRIPTION:Lunch Bunch will meet at Stauffer’s Cafe & Pie Shoppe\, 5600 S. 48th St\, on Tuesday\, July 5. \nRSVP to Jim Kinkennon at 402-290-5888 or email to jimkinkennon@gmail.com.
URL:https://westminsterlincoln.org/event/lunch-bunch-33/
CATEGORIES:Fellowship,Life Group,small group
ATTACH;FMTTYPE=image/png:https://westminsterlincoln.org/wp-content/uploads/2022/06/Lunch-Bunch-July.png
END:VEVENT
BEGIN:VEVENT
DTSTART;TZID=UTC:20220716T090000
DTEND;TZID=UTC:20220716T103000
DTSTAMP:20260420T224210
CREATED:20220629T161639Z
LAST-MODIFIED:20220629T161657Z
UID:20313-1657962000-1657967400@westminsterlincoln.org
SUMMARY:History Buffs
DESCRIPTION:History Buffs | Saturday\, July 16 at 9:00 a.m.\nThe Onomastics of an Indian Woman (Sacagawea) Presented by Gary Moulton\n\nThe term “onomastics” relates to the study of names—place-names usually\, but also to personal names. Gary was led to this topic when he wondered if during the Lewis and Clark expedition terms for Sacagawea changed over time and if those changes were the result of circumstances. For example\, did expedition journalists (particularly Lewis and Clark) use more familiar or affectionate names for her as they got to know her better? Did she go from “Indian squaw” to “our Indian woman\,” from “interpreter’s wife” to “Sacagawea” as time passed? And did specific names for her reflect particular attitudes? After examining all references to her in the journals\, Gary has some interesting suggestions for answering these questions. All are welcome.
URL:https://westminsterlincoln.org/event/history-buffs-19/
CATEGORIES:Fellowship,Life Group,small group
ATTACH;FMTTYPE=image/jpeg:https://westminsterlincoln.org/wp-content/uploads/2022/06/image.jpg
END:VEVENT
BEGIN:VEVENT
DTSTART;TZID=UTC:20220719T170000
DTEND;TZID=UTC:20220719T190000
DTSTAMP:20260420T224210
CREATED:20220627T153723Z
LAST-MODIFIED:20220627T153736Z
UID:20292-1658250000-1658257200@westminsterlincoln.org
SUMMARY:Ladies Night Out
DESCRIPTION:Ladies’ Night Out – Tuesday\, July 19 | 5-7 PM \nBilly’s Restaurant located at 1301 H Street \nRSVPs due to Robyn Sunday\, July 17. Email Robyn Uebele robynu2@hotmail.com. Text or call Robyn 937-935-6858. Feel free to invite a friend\, neighbor\, or relative to all our gatherings.  
URL:https://westminsterlincoln.org/event/ladies-night-out-37/
CATEGORIES:Fellowship,Ladies Nigt Out,Life Group,small group
ATTACH;FMTTYPE=image/jpeg:https://westminsterlincoln.org/wp-content/uploads/2022/06/July-LNO.jpg
END:VEVENT
BEGIN:VEVENT
DTSTART;TZID=UTC:20220720T130000
DTEND;TZID=UTC:20220720T150000
DTSTAMP:20260420T224210
CREATED:20220627T163150Z
LAST-MODIFIED:20220705T212217Z
UID:20302-1658322000-1658329200@westminsterlincoln.org
SUMMARY:Prairie Readers
DESCRIPTION:Prairie Readers \nWednesday\, July 20\, 1 pm\, Lounge \n  \nBook: The Brilliant Life of Eudora Honeysett by Annie Lyons \nDiscussion leader: Becky Bockrath
URL:https://westminsterlincoln.org/event/prairie-readers-33/
CATEGORIES:Book Club,Fellowship,Life Group,small group
ATTACH;FMTTYPE=image/jpeg:https://westminsterlincoln.org/wp-content/uploads/2022/06/Prairie-Readers-July-1.jpg
END:VEVENT
BEGIN:VEVENT
DTSTART;TZID=UTC:20220731T093000
DTEND;TZID=UTC:20220731T103000
DTSTAMP:20260420T224210
CREATED:20220512T172451Z
LAST-MODIFIED:20230118T001159Z
UID:20109-1659259800-1659263400@westminsterlincoln.org
SUMMARY:Sunday Worship
DESCRIPTION:Join us in the Sanctuary on Sundays at 9:30 a.m. or watch Lincoln Westminster Presbyterian Church Virtual Worship Here:  https://westminsterlincoln.org/youtube-videos/\nTo access our Live View Service:\n\nGo to the YouTube Services page on our website.\nClick on the “Click Here to Watch Live at 9:30am” sentence link if you intend to watch live or while the service is taking place (9:30-10:30/10:40am).\nIf watching live\, the video should appear as the most recent video with a title using our worship date (example: 12.5.21 Worship LIVE). Click that video to be taken to the larger version.\n\nPlease note the service may not appear on the Westminster Website in the playlist (boxes you click to watch) until the service has concluded. Please view using the Click Here link or direct YouTube link!\n\n\n\n\n\nDownload Your Virtual Worship Bulletin: https://westminsterlincoln.org/worship-bulletins/\n  \n\nWorship will also be televised on Spectrum channel 1302 and Windstream channel 13 at 12:30 PM on Thursday and 1:00 PM on Saturday.
URL:https://westminsterlincoln.org/event/sunday-worship-65/2022-07-31/
CATEGORIES:Fellowship,religion,virtual worship,worship
ATTACH;FMTTYPE=image/png:https://westminsterlincoln.org/wp-content/uploads/2022/05/Finding-Our-Purpose-1920-×-1080-px-e1674000680443.png
END:VEVENT
END:VCALENDAR