BEGIN:VCALENDAR
VERSION:2.0
PRODID:-//Westminster Presbyterian Church - ECPv6.15.20//NONSGML v1.0//EN
CALSCALE:GREGORIAN
METHOD:PUBLISH
X-WR-CALNAME:Westminster Presbyterian Church
X-ORIGINAL-URL:https://westminsterlincoln.org
X-WR-CALDESC:Events for Westminster Presbyterian Church
REFRESH-INTERVAL;VALUE=DURATION:PT1H
X-Robots-Tag:noindex
X-PUBLISHED-TTL:PT1H
BEGIN:VTIMEZONE
TZID:UTC
BEGIN:STANDARD
TZOFFSETFROM:+0000
TZOFFSETTO:+0000
TZNAME:UTC
DTSTART:20190101T000000
END:STANDARD
END:VTIMEZONE
BEGIN:VEVENT
DTSTART;VALUE=DATE:20210217
DTEND;VALUE=DATE:20210218
DTSTAMP:20260424T122758
CREATED:20210203T184212Z
LAST-MODIFIED:20210203T184221Z
UID:18129-1613520000-1613606399@westminsterlincoln.org
SUMMARY:Virtual Ash Wednesday
DESCRIPTION:Ash Wednesday Virtual \nPlans are being made to have a virtual YouTube service for Ash Wednesday\, February 17.  To include the tradition of having ashes on the forehead as a sign of our mortality and our hope in Christ’s resurrection\, Elder Tom Pappas has burned palm fronds from last Palm Sunday.  Members can pick up an envelope with a pinch of these ashes to use with family members for the virtual service.  They will be available inside the east doors. \nIf you prefer\, email Pastor Jimmy (jimmy@westminsterlincoln.com) or leave voice mail 402-475-6702 and he will send you an envelope of ash.  During the service\, you will be instructed on how to incorporate the ashes in your worship.  If you have another source of ashes\, like from a fireplace\, you may use those as well.
URL:https://westminsterlincoln.org/event/virtual-ash-wednesday/
CATEGORIES:Fellowship,religion,virtual worship,worship
ATTACH;FMTTYPE=image/jpeg:https://westminsterlincoln.org/wp-content/uploads/2020/01/Ash2016.jpg
END:VEVENT
BEGIN:VEVENT
DTSTART;TZID=UTC:20210216T173000
DTEND;TZID=UTC:20210216T190000
DTSTAMP:20260424T122758
CREATED:20210110T174452Z
LAST-MODIFIED:20210129T161454Z
UID:18048-1613496600-1613502000@westminsterlincoln.org
SUMMARY:Ladies Night Out
DESCRIPTION:Ladies Night Out\nAll Westminster women are welcome at our virtual “night out” once a month. We’d love to have YOU join the conversation! Upcoming gatherings will be at 5:30 pm on Tuesday evenings. Contact Laurel Van Ham or the church office to get the Zoom link. Easy directions included for any who haven’t Zoomed before.
URL:https://westminsterlincoln.org/event/ladies-night-out-23/
CATEGORIES:bible study,Fellowship,religion
ATTACH;FMTTYPE=image/jpeg:https://westminsterlincoln.org/wp-content/uploads/2021/01/ladies-night-copy.jpg
END:VEVENT
BEGIN:VEVENT
DTSTART;VALUE=DATE:20210214
DTEND;VALUE=DATE:20210215
DTSTAMP:20260424T122758
CREATED:20210209T143802Z
LAST-MODIFIED:20210209T144621Z
UID:18155-1613260800-1613347199@westminsterlincoln.org
SUMMARY:Sign up for Virtual Choir Deadline
DESCRIPTION:February 14 is the sign up deadline. \nWould you like to join our current virtual choir project? We’re doing a simple arrangement of Be Thou My Vision. Contact Laura Ross to receive sing-a-long track and score. Technological instructions and guidance will also be provided. Submissions are due this Sunday on Valentine’s Day! \n 
URL:https://westminsterlincoln.org/event/sign-up-for-virtual-choir-deadline/
CATEGORIES:Fellowship,Virtual Choir
ATTACH;FMTTYPE=image/jpeg:https://westminsterlincoln.org/wp-content/uploads/2021/02/Choir_Website_no_text.jpg
END:VEVENT
BEGIN:VEVENT
DTSTART;VALUE=DATE:20210214
DTEND;VALUE=DATE:20210215
DTSTAMP:20260424T122758
CREATED:20210203T180825Z
LAST-MODIFIED:20210203T180825Z
UID:18111-1613260800-1613347199@westminsterlincoln.org
SUMMARY:Virtual Sunday Worship
DESCRIPTION:Click here to download your Online Worship Bulletin: https://westminsterlincoln.org/worship-bulletins/\n\n\n\n\nHere is a quick link to the Lincoln Westminster Presbyterian Church Virtual Worship Videos: \nhttps://westminsterlincoln.org/youtube-videos/\n\n\nWorship will also be televised on Spectrum channel 1302 and Windstream channel 13 at 12:30 PM on Thursday and 1:00 PM on Saturday.
URL:https://westminsterlincoln.org/event/virtual-sunday-worship-3/
CATEGORIES:virtual worship
ATTACH;FMTTYPE=image/jpeg:https://westminsterlincoln.org/wp-content/uploads/2021/01/church-from-home-laptop-lightstock_725635_prixel-creative.jpg
END:VEVENT
BEGIN:VEVENT
DTSTART;TZID=UTC:20210210T190000
DTEND;TZID=UTC:20210210T200000
DTSTAMP:20260424T122758
CREATED:20210203T235255Z
LAST-MODIFIED:20210203T235306Z
UID:18136-1612983600-1612987200@westminsterlincoln.org
SUMMARY:Adult Education Luke Bible Study
DESCRIPTION:Wednesdays at 7 PM via Zoom\nLuke Part Two. Each group of readings is informed by an introductory video. All participants are asked to watch the video: “BibleProject Luke Part Two” which can be found through a Google search. .  To receive the Zoom link and register for the next class\, email Tom Pappas.
URL:https://westminsterlincoln.org/event/adult-education-luke-bible-study-2/
CATEGORIES:bible study
ATTACH;FMTTYPE=image/png:https://westminsterlincoln.org/wp-content/uploads/2021/02/screen-shot-2014-03-19-at-4-27-18-pm.png
END:VEVENT
BEGIN:VEVENT
DTSTART;TZID=UTC:20210207T080000
DTEND;TZID=UTC:20210207T170000
DTSTAMP:20260424T122758
CREATED:20210129T161845Z
LAST-MODIFIED:20210129T161845Z
UID:18092-1612684800-1612717200@westminsterlincoln.org
SUMMARY:Virtual Worship Communion
DESCRIPTION:Virtual Communion\nSunday\, February 7\, 2021\nThe General Assembly Council and Clerk have given churches leave to have members prepare their own elements at home and receive as they watch virtual worship. Before you watch the Communion service\, please have bread (of any sort) and a cup of grape juice or wine for each member of your household who is watching. \nWorship will also be televised onSpectrum channel 1302 and Windstream channel 13 at 12:30 PM on Thursday and 1:00 PM on Saturday. \nDownload yourOnline Worship Bulletin at https://westminsterlincoln.org/worship-bulletins/ . Watch Lincoln Westminster Presbyterian Church Virtual Worship Videos at https://westminsterlincoln.org/youtube-videos/ .
URL:https://westminsterlincoln.org/event/virtual-worship-communion/
ATTACH;FMTTYPE=image/jpeg:https://westminsterlincoln.org/wp-content/uploads/2021/01/online-communion_slide.jpg
END:VEVENT
BEGIN:VEVENT
DTSTART;TZID=UTC:20210203T190000
DTEND;TZID=UTC:20210203T200000
DTSTAMP:20260424T122758
CREATED:20210203T234413Z
LAST-MODIFIED:20210203T235734Z
UID:18133-1612378800-1612382400@westminsterlincoln.org
SUMMARY:Adult Education Luke Bible Study
DESCRIPTION:Wednesdays at 7 PM via Zoom\nLuke Part Two. Each group of readings is informed by an introductory video. All participants are asked to watch the video: “BibleProject Luke Part Two” which can be found through a Google search. .  To receive the Zoom link and register for the next class\, email Tom Pappas.
URL:https://westminsterlincoln.org/event/adult-education-bible-study/
CATEGORIES:bible study
ATTACH;FMTTYPE=image/png:https://westminsterlincoln.org/wp-content/uploads/2020/11/download.png
END:VEVENT
BEGIN:VEVENT
DTSTART;VALUE=DATE:20210131
DTEND;VALUE=DATE:20210201
DTSTAMP:20260424T122758
CREATED:20210119T162012Z
LAST-MODIFIED:20210119T162012Z
UID:18066-1612051200-1612137599@westminsterlincoln.org
SUMMARY:Virtual Sunday Worship
DESCRIPTION:Click here to download your Online Worship Bulletin: https://westminsterlincoln.org/worship-bulletins/\n\n\n\n\nHere is a quick link to the Lincoln Westminster Presbyterian Church Virtual Worship Videos: \nhttps://westminsterlincoln.org/youtube-videos/\n\n\nWorship will also be televised on Spectrum channel 1302 and Windstream channel 13 at 12:30 PM on Thursday and 1:00 PM on Saturday.
URL:https://westminsterlincoln.org/event/virtual-sunday-worship-2/
CATEGORIES:Fellowship,religion,worship
ATTACH;FMTTYPE=image/jpeg:https://westminsterlincoln.org/wp-content/uploads/2021/01/church-from-home-laptop-lightstock_725635_prixel-creative.jpg
END:VEVENT
BEGIN:VEVENT
DTSTART;VALUE=DATE:20210124
DTEND;VALUE=DATE:20210125
DTSTAMP:20260424T122758
CREATED:20210119T161716Z
LAST-MODIFIED:20210119T161716Z
UID:18064-1611446400-1611532799@westminsterlincoln.org
SUMMARY:Virtual Sunday Worship
DESCRIPTION:Click here to download your Online Worship Bulletin: https://westminsterlincoln.org/worship-bulletins/\n\n\n\n\nHere is a quick link to the Lincoln Westminster Presbyterian Church Virtual Worship Videos: \nhttps://westminsterlincoln.org/youtube-videos/\n\n\nWorship will also be televised on Spectrum channel 1302 and Windstream channel 13 at 12:30 PM on Thursday and 1:00 PM on Saturday.
URL:https://westminsterlincoln.org/event/virtual-sunday-worship/
CATEGORIES:Fellowship,religion,worship
ATTACH;FMTTYPE=image/jpeg:https://westminsterlincoln.org/wp-content/uploads/2020/02/welcome500.jpg
END:VEVENT
BEGIN:VEVENT
DTSTART;TZID=UTC:20210121T103000
DTEND;TZID=UTC:20210121T170000
DTSTAMP:20260424T122758
CREATED:20210110T180733Z
LAST-MODIFIED:20210110T180744Z
UID:18053-1611225000-1611248400@westminsterlincoln.org
SUMMARY:Spring Stated Meeting
DESCRIPTION:Our Spring Congregational Meeting for purposes of hearing an annual report and approving the 2021 budget will be held via Zoom at 10:30am on Sunday\, February 21.
URL:https://westminsterlincoln.org/event/spring-stated-meeting-2021/
ATTACH;FMTTYPE=image/jpeg:https://westminsterlincoln.org/wp-content/uploads/2021/01/images-2-1.jpg
END:VEVENT
BEGIN:VEVENT
DTSTART;VALUE=DATE:20210118
DTEND;VALUE=DATE:20210119
DTSTAMP:20260424T122758
CREATED:20210110T170638Z
LAST-MODIFIED:20210110T173031Z
UID:18040-1610928000-1611014399@westminsterlincoln.org
SUMMARY:BUILDING/OFFICE CLOSING
DESCRIPTION:The Church building and office will be closed on January 18\, for Martin Luther King Jr. Day.
URL:https://westminsterlincoln.org/event/building-office-closings/
CATEGORIES:Fellowship
ATTACH;FMTTYPE=image/jpeg:https://westminsterlincoln.org/wp-content/uploads/2021/01/KCC-closed-MLK-Day.jpg
END:VEVENT
BEGIN:VEVENT
DTSTART;TZID=UTC:20210117T090000
DTEND;TZID=UTC:20210117T170000
DTSTAMP:20260424T122758
CREATED:20210110T181039Z
LAST-MODIFIED:20210110T181045Z
UID:18057-1610874000-1610902800@westminsterlincoln.org
SUMMARY:"Live" Virtual Worship
DESCRIPTION:Our January 17 worship service will be live at 9:00am on Zoom\, as we prepare to ordain and install our new elders and deacons. The brief worship service will be followed by a time of fellowship similar to our recent “Coffee with Chris” sessions. The Zoom link will be available in the eVine on January 13.
URL:https://westminsterlincoln.org/event/live-virtual-worship/
ATTACH;FMTTYPE=image/jpeg:https://westminsterlincoln.org/wp-content/uploads/2021/01/download.jpg
END:VEVENT
BEGIN:VEVENT
DTSTART;TZID=UTC:20210113T190000
DTEND;TZID=UTC:20210113T200000
DTSTAMP:20260424T122758
CREATED:20210110T171236Z
LAST-MODIFIED:20210110T171236Z
UID:18042-1610564400-1610568000@westminsterlincoln.org
SUMMARY:Adult Education Luke Bible Study
DESCRIPTION:Wednesdays at 7 PM via Zoom\nBible Study is resuming on January 13 and will begin Luke Part Two at Luke 19:28. Each group of readings is informed by an introductory video. All participants are asked to watch the video: “BibleProject Luke Part Two” (Google that title) before January 13. To receive the Zoom link and register for the next class\, email Tom Pappas.
URL:https://westminsterlincoln.org/event/adult-education-luke-bible-study/
CATEGORIES:bible study,Fellowship,religion
ATTACH;FMTTYPE=image/jpeg:https://westminsterlincoln.org/wp-content/uploads/2019/08/Luke.jpg
END:VEVENT
BEGIN:VEVENT
DTSTART;TZID=UTC:20210112T173000
DTEND;TZID=UTC:20210112T190000
DTSTAMP:20260424T122758
CREATED:20210110T173458Z
LAST-MODIFIED:20210110T173458Z
UID:18045-1610472600-1610478000@westminsterlincoln.org
SUMMARY:Ladies Night Out
DESCRIPTION:Ladies Night Out\nAll Westminster women are welcome at our virtual “night out” once a month. In December we shared news about our own lives (doubling our joys and bearing each other’s sorrows) and also talked about some special Westminster goings-on. We’d love to have YOU join the conversation! Upcoming gatherings will be at 5:30 pm on Tuesday evenings. Contact Laurel Van Ham or the church office to get the Zoom link. Easy directions included for any who haven’t Zoomed before.
URL:https://westminsterlincoln.org/event/ladies-night-out-22/
CATEGORIES:Fellowship,religion
ATTACH;FMTTYPE=image/jpeg:https://westminsterlincoln.org/wp-content/uploads/2021/01/hr-LNO2018-2000x615-1.jpg
END:VEVENT
BEGIN:VEVENT
DTSTART;VALUE=DATE:20210110
DTEND;VALUE=DATE:20210111
DTSTAMP:20260424T122758
CREATED:20210110T181655Z
LAST-MODIFIED:20210110T181830Z
UID:18060-1610236800-1610323199@westminsterlincoln.org
SUMMARY:Confirmation Begins
DESCRIPTION:What is Confirmation? Confirmation is a journey of spiritual growth and learning for 9th graders (and older who have not yet participated) at Westminster. Confirmation 2021 begins January 10 with a Zoom Orientation with Pastor Chris and adult leaders. Confirmation will follow the Big God\, Big Questions curriculum from the PCUSA\, and we will walk through a semester of engaging questions of our faith in fun and creative ways. To RSVP for the Orientation and receive the Zoom link\, contact Pastor Chris ASAP (chris@westminsterlincoln.org). Final class times and plans will be discussed at the Orientation session!
URL:https://westminsterlincoln.org/event/confirmation-begins/
ATTACH;FMTTYPE=image/jpeg:https://westminsterlincoln.org/wp-content/uploads/2021/01/10494BGBQcolorL_00000123013.jpg.imagejpeg.jpg
END:VEVENT
BEGIN:VEVENT
DTSTART;VALUE=DATE:20210103
DTEND;VALUE=DATE:20210104
DTSTAMP:20260424T122758
CREATED:20201211T172200Z
LAST-MODIFIED:20201211T172200Z
UID:17983-1609632000-1609718399@westminsterlincoln.org
SUMMARY:Virtual Worship with Communion
DESCRIPTION:Virtual Communion \nSunday\, January 3\, 2021\nThe General Assembly Council and Clerk have given churches leave to have members prepare their own elements at home and receive as they watch virtual worship. Before you watch the Communion service\, please have bread (of any sort) and a cup of grape juice or wine for each member of your household who is watching. \nWorship will also be televised onSpectrum channel 1302 and Windstream channel 13 at 12:30 PM on Thursday and 1:00 PM on Saturday. \nDownload yourOnline Worship Bulletin at https://westminsterlincoln.org/worship-bulletins/ . Watch Lincoln Westminster Presbyterian Church Virtual Worship Videos at https://westminsterlincoln.org/youtube-videos/ .
URL:https://westminsterlincoln.org/event/virtual-worship-with-communion/
CATEGORIES:Fellowship,religion,worship
ATTACH;FMTTYPE=image/jpeg:https://westminsterlincoln.org/wp-content/uploads/2020/12/maxresdefault.jpg
END:VEVENT
BEGIN:VEVENT
DTSTART;VALUE=DATE:20210101
DTEND;VALUE=DATE:20210102
DTSTAMP:20260424T122758
CREATED:20210110T170035Z
LAST-MODIFIED:20210110T170512Z
UID:18037-1609459200-1609545599@westminsterlincoln.org
SUMMARY:BUILDING/OFFICE CLOSING
DESCRIPTION:The Church building and office will be closed on January 1\, for New Year’s Day.
URL:https://westminsterlincoln.org/event/building-office-closing/
CATEGORIES:Fellowship
ATTACH;FMTTYPE=image/jpeg:https://westminsterlincoln.org/wp-content/uploads/2021/01/Happy-New-year-office-closed-1024x512-1.jpg
END:VEVENT
BEGIN:VEVENT
DTSTART;VALUE=DATE:20201227
DTEND;VALUE=DATE:20201228
DTSTAMP:20260424T122758
CREATED:20201211T171345Z
LAST-MODIFIED:20201211T171345Z
UID:17978-1609027200-1609113599@westminsterlincoln.org
SUMMARY:Sunday Virtual Worship
DESCRIPTION:Click here to download your Online Worship Bulletin: https://westminsterlincoln.org/worship-bulletins/\n\n\n\n\nHere is a quick link to the Lincoln Westminster Presbyterian Church Virtual Worship Videos: \nhttps://westminsterlincoln.org/youtube-videos/\n\n\nWorship will also be televised on Spectrum channel 1302 and Windstream channel 13 at 12:30 PM on Thursday and 1:00 PM on Saturday.
URL:https://westminsterlincoln.org/event/sunday-virtual-worship-13/
CATEGORIES:Fellowship,religion,worship
ATTACH;FMTTYPE=image/png:https://westminsterlincoln.org/wp-content/uploads/2020/05/unnamed.png
END:VEVENT
BEGIN:VEVENT
DTSTART;VALUE=DATE:20201224
DTEND;VALUE=DATE:20201225
DTSTAMP:20260424T122758
CREATED:20201211T164059Z
LAST-MODIFIED:20201211T164059Z
UID:17963-1608768000-1608854399@westminsterlincoln.org
SUMMARY:Christmas Eve Worship Services
DESCRIPTION:Christmas Eve Drive-In Services\nThursday\, December 24th | 4:30pm\, 5:30pm\, 6:30pm\n\n\nAll are welcome to join us for one of three 25-minute “Drive-In” services on Christmas Eve! You are invited to park and tune-in to our FM broadcast as we share in two music pieces and an encouraging in-person Christmas message from Pastor Chris! There will be signs in the parking lot with information on which FM station to tune into as well as in upcoming e-Vines. Be sure to “Bring Your Own Candle”\, tea light\, or cell-phone flashlight as we close with Silent Night.\n\n\n\nChristmas Eve Virtual Service\nPremiering at 5:00pm on our YouTube channel (www.youtube.com/westminsterlincoln)\n\n\nOur Christmas Eve Virtual Service is being planned with all the joyful and memorable parts of worship and music that we love on Christmas Eve. The service will premier ‘live’ at 5:00pm on our YouTube channel and will be available to watch any time after 5:00pm as well. Have your candles ready\, as we will virtually “pass the light of Christ” across our church family.
URL:https://westminsterlincoln.org/event/christmas-eve-worship-services/
ATTACH;FMTTYPE=image/png:https://westminsterlincoln.org/wp-content/uploads/2020/12/Event-Christmas-Eve-Worship.png
END:VEVENT
BEGIN:VEVENT
DTSTART;TZID=UTC:20201220T103000
DTEND;TZID=UTC:20201220T113000
DTSTAMP:20260424T122758
CREATED:20201211T170811Z
LAST-MODIFIED:20201211T170828Z
UID:17974-1608460200-1608463800@westminsterlincoln.org
SUMMARY:Those Who Dream Advent Series
DESCRIPTION:Education (with amazing guest speakers!)… Each Sunday in Advent we will have a Zoom Education Hour that will be great for youth and adults at 10:30am. \nJoin Zoom Meeting\nhttps://us02web.zoom.us/j/87257712695?pwd=UUR2VzJJeHVwREk4dEx0K0oxV1k3UT09\nMeeting ID: 872 5771 2695\nPasscode: advent20 \nSunday\, December 20: Dr. Martha Moore-Keish\, Professor of Theology at Columbia Seminary teaching us about a Reformed understanding of Mary in the Christmas story and our day’s scripture.
URL:https://westminsterlincoln.org/event/those-who-dream-advent-series-4/
CATEGORIES:bible study,Fellowship,religion
ATTACH;FMTTYPE=image/jpeg:https://westminsterlincoln.org/wp-content/uploads/2020/12/thosewhodream_4x6brandingbundleimage.jpg
END:VEVENT
BEGIN:VEVENT
DTSTART;VALUE=DATE:20201220
DTEND;VALUE=DATE:20201221
DTSTAMP:20260424T122758
CREATED:20201211T171303Z
LAST-MODIFIED:20201211T171303Z
UID:17976-1608422400-1608508799@westminsterlincoln.org
SUMMARY:Sunday Virtual Worship
DESCRIPTION:Click here to download your Online Worship Bulletin: https://westminsterlincoln.org/worship-bulletins/\n\n\n\n\nHere is a quick link to the Lincoln Westminster Presbyterian Church Virtual Worship Videos: \nhttps://westminsterlincoln.org/youtube-videos/\n\n\nWorship will also be televised on Spectrum channel 1302 and Windstream channel 13 at 12:30 PM on Thursday and 1:00 PM on Saturday.
URL:https://westminsterlincoln.org/event/sunday-virtual-worship-12/
CATEGORIES:Fellowship,religion,worship
ATTACH;FMTTYPE=image/png:https://westminsterlincoln.org/wp-content/uploads/2020/05/unnamed.png
END:VEVENT
BEGIN:VEVENT
DTSTART;TZID=UTC:20201213T103000
DTEND;TZID=UTC:20201213T113000
DTSTAMP:20260424T122758
CREATED:20201211T170714Z
LAST-MODIFIED:20201211T170714Z
UID:17972-1607855400-1607859000@westminsterlincoln.org
SUMMARY:Those Who Dream Advent Series
DESCRIPTION:Education (with amazing guest speakers!)… Each Sunday in Advent we will have a Zoom Education Hour that will be great for youth and adults at 10:30am. \nJoin Zoom Meeting\nhttps://us02web.zoom.us/j/87257712695?pwd=UUR2VzJJeHVwREk4dEx0K0oxV1k3UT09\nMeeting ID: 872 5771 2695\nPasscode: advent20 \n  \nHere’s the schedule: \nSunday\, December 13: Rev. Sarah Are and Rev. Lauren Wright Pittman of A Sanctified Art leading us in a “Those Who Dream” Advent poetry reading and Visio Divina (artistic reflection) using a piece of art created for this series! \nSunday\, December 20: Dr. Martha Moore-Keish\, Professor of Theology at Columbia Seminary teaching us about a Reformed understanding of Mary in the Christmas story and our day’s scripture.
URL:https://westminsterlincoln.org/event/those-who-dream-advent-series-3/
CATEGORIES:bible study,Fellowship,religion
ATTACH;FMTTYPE=image/jpeg:https://westminsterlincoln.org/wp-content/uploads/2020/12/thosewhodream_4x6brandingbundleimage.jpg
END:VEVENT
BEGIN:VEVENT
DTSTART;VALUE=DATE:20201213
DTEND;VALUE=DATE:20201214
DTSTAMP:20260424T122758
CREATED:20201027T010003Z
LAST-MODIFIED:20201027T010003Z
UID:17882-1607817600-1607903999@westminsterlincoln.org
SUMMARY:Sunday Virtual Worship
DESCRIPTION:Click here to download your Online Worship Bulletin: https://westminsterlincoln.org/worship-bulletins/\n\n\n\n\nHere is a quick link to the Lincoln Westminster Presbyterian Church Virtual Worship Videos: \nhttps://westminsterlincoln.org/youtube-videos/\n\n\nWorship will also be televised on Spectrum channel 1302 and Windstream channel 13 at 12:30 PM on Thursday and 1:00 PM on Saturday.
URL:https://westminsterlincoln.org/event/sunday-virtual-worship-11/
CATEGORIES:Fellowship,religion,worship
ATTACH;FMTTYPE=image/png:https://westminsterlincoln.org/wp-content/uploads/2020/05/unnamed.png
END:VEVENT
BEGIN:VEVENT
DTSTART;TZID=UTC:20201206T103000
DTEND;TZID=UTC:20201206T113000
DTSTAMP:20260424T122758
CREATED:20201211T170604Z
LAST-MODIFIED:20201211T170604Z
UID:17970-1607250600-1607254200@westminsterlincoln.org
SUMMARY:Those Who Dream Advent Series
DESCRIPTION:Education (with amazing guest speakers!)… Each Sunday in Advent we will have a Zoom Education Hour that will be great for youth and adults at 10:30am. \nJoin Zoom Meeting\nhttps://us02web.zoom.us/j/87257712695?pwd=UUR2VzJJeHVwREk4dEx0K0oxV1k3UT09\nMeeting ID: 872 5771 2695\nPasscode: advent20 \n  \nHere’s the schedule: \nSunday\, December 6: Dr. John P. Burgess\, Professor of Theology at Pittsburgh Seminary presenting on how we can understand the day’s scripture and the season of Advent. \nSunday\, December 13: Rev. Sarah Are and Rev. Lauren Wright Pittman of A Sanctified Art leading us in a “Those Who Dream” Advent poetry reading and Visio Divina (artistic reflection) using a piece of art created for this series! \nSunday\, December 20: Dr. Martha Moore-Keish\, Professor of Theology at Columbia Seminary teaching us about a Reformed understanding of Mary in the Christmas story and our day’s scripture.
URL:https://westminsterlincoln.org/event/those-who-dream-advent-series-2/
CATEGORIES:bible study,Fellowship,religion
ATTACH;FMTTYPE=image/jpeg:https://westminsterlincoln.org/wp-content/uploads/2020/12/thosewhodream_4x6brandingbundleimage.jpg
END:VEVENT
BEGIN:VEVENT
DTSTART;VALUE=DATE:20201206
DTEND;VALUE=DATE:20201207
DTSTAMP:20260424T122758
CREATED:20201027T005818Z
LAST-MODIFIED:20201027T005818Z
UID:17880-1607212800-1607299199@westminsterlincoln.org
SUMMARY:Sunday Virtual Worship
DESCRIPTION:Click here to download your Online Worship Bulletin: https://westminsterlincoln.org/worship-bulletins/\n\n\n\n\nHere is a quick link to the Lincoln Westminster Presbyterian Church Virtual Worship Videos: \nhttps://westminsterlincoln.org/youtube-videos/\n\n\nWorship will also be televised on Spectrum channel 1302 and Windstream channel 13 at 12:30 PM on Thursday and 1:00 PM on Saturday.
URL:https://westminsterlincoln.org/event/sunday-virtual-worship-10/
CATEGORIES:Fellowship,religion,worship
ATTACH;FMTTYPE=image/png:https://westminsterlincoln.org/wp-content/uploads/2020/05/unnamed.png
END:VEVENT
BEGIN:VEVENT
DTSTART;TZID=UTC:20201202T190000
DTEND;TZID=UTC:20201202T200000
DTSTAMP:20260424T122758
CREATED:20201104T183623Z
LAST-MODIFIED:20201211T171810Z
UID:17913-1606935600-1606939200@westminsterlincoln.org
SUMMARY:Virtual Bible Study
DESCRIPTION:Virtual Bible Study \nZoom Gathering on Wednesdays\n\nLuke Bible Study by Zoom Adult Education has been sponsoring Bible Study by Zoom for most of the weeks since the pandemic began. First\, we were led by Sarah Baltensperger through the book of Genesis.Then\, this fall we began studying the Gospel of Luke\, led by Pastor Jimmy Shelbourn.These are on Wednesdays at 7 p.m. Each group of readings is informed by an introductory video. The group will conclude Luke Part One onDecember 2and take a holiday break until January 13.That session on January 13 will begin Luke Part Two at Luke 19:28.All participants are asked to watch the video: “BibleProject Luke Part Two” (just Google that title) before January 13. To receive the Zoom link and register for the next class\, email Tom Pappas attpappas@windstream.net.\n\n\n\n\n\n\n\nHave a look at a brief overview and consider if you might want to brush up on your Bible knowledge.\nhttps://bibleproject.com/explore/luke/
URL:https://westminsterlincoln.org/event/virtual-bible-study-6/
CATEGORIES:bible study,Fellowship,religion
ATTACH;FMTTYPE=image/png:https://westminsterlincoln.org/wp-content/uploads/2020/11/download.png
END:VEVENT
BEGIN:VEVENT
DTSTART;TZID=UTC:20201129T103000
DTEND;TZID=UTC:20201129T113000
DTSTAMP:20260424T122758
CREATED:20201211T170227Z
LAST-MODIFIED:20201211T170937Z
UID:17967-1606645800-1606649400@westminsterlincoln.org
SUMMARY:Those Who Dream Advent Series
DESCRIPTION:Education (with amazing guest speakers!)… Each Sunday in Advent we will have a Zoom Education Hour that will be great for youth and adults at 10:30am. \nJoin Zoom Meeting\nhttps://us02web.zoom.us/j/87257712695?pwd=UUR2VzJJeHVwREk4dEx0K0oxV1k3UT09\nMeeting ID: 872 5771 2695\nPasscode: advent20 \n  \nHere’s the schedule: \nSunday\, November 29: Artists Rev. Lisle Gwynn Garrity and Hannah Garrity of A Sanctified Art sharing about our “Those Who Dream” Advent theme and their creative process. \nSunday\, December 6: Dr. John P. Burgess\, Professor of Theology at Pittsburgh Seminary presenting on how we can understand the day’s scripture and the season of Advent. \nSunday\, December 13: Rev. Sarah Are and Rev. Lauren Wright Pittman of A Sanctified Art leading us in a “Those Who Dream” Advent poetry reading and Visio Divina (artistic reflection) using a piece of art created for this series! \nSunday\, December 20: Dr. Martha Moore-Keish\, Professor of Theology at Columbia Seminary teaching us about a Reformed understanding of Mary in the Christmas story and our day’s scripture.
URL:https://westminsterlincoln.org/event/those-who-dream-advent-series/
CATEGORIES:bible study,Fellowship,religion
ATTACH;FMTTYPE=image/jpeg:https://westminsterlincoln.org/wp-content/uploads/2020/12/thosewhodream_4x6brandingbundleimage.jpg
END:VEVENT
BEGIN:VEVENT
DTSTART;VALUE=DATE:20201129
DTEND;VALUE=DATE:20201130
DTSTAMP:20260424T122758
CREATED:20201027T005355Z
LAST-MODIFIED:20201027T005406Z
UID:17877-1606608000-1606694399@westminsterlincoln.org
SUMMARY:Sunday Virtual Worship
DESCRIPTION:Click here to download your Online Worship Bulletin: https://westminsterlincoln.org/worship-bulletins/\n\n\n\n\nHere is a quick link to the Lincoln Westminster Presbyterian Church Virtual Worship Videos: \nhttps://westminsterlincoln.org/youtube-videos/\n\n\nWorship will also be televised on Spectrum channel 1302 and Windstream channel 13 at 12:30 PM on Thursday and 1:00 PM on Saturday.
URL:https://westminsterlincoln.org/event/sunday-virtual-worship-9/
CATEGORIES:Fellowship,religion,worship
ATTACH;FMTTYPE=image/jpeg:https://westminsterlincoln.org/wp-content/uploads/2020/10/bible-study-online.jpg
END:VEVENT
BEGIN:VEVENT
DTSTART;TZID=UTC:20201125T190000
DTEND;TZID=UTC:20201125T200000
DTSTAMP:20260424T122758
CREATED:20201104T183428Z
LAST-MODIFIED:20201104T183950Z
UID:17911-1606330800-1606334400@westminsterlincoln.org
SUMMARY:Virtual Bible Study
DESCRIPTION:Virtual Bible Study \nZoom Gathering on Wednesdays\n\nOur ZOOM Bible Study group gathers at 7 PM on Wednesdays for an hour. Email Tom Pappas to enroll at tpappas@windstream.net.\n\n\n\n\n\n\n\nHave a look at a brief overview and consider if you might want to brush up on your Bible knowledge.\nhttps://bibleproject.com/explore/luke/
URL:https://westminsterlincoln.org/event/virtual-bible-study-5/
CATEGORIES:bible study,Fellowship,religion
ATTACH;FMTTYPE=image/jpeg:https://westminsterlincoln.org/wp-content/uploads/2020/10/bible-study-online.jpg
END:VEVENT
BEGIN:VEVENT
DTSTART;TZID=UTC:20201122T103000
DTEND;TZID=UTC:20201122T233000
DTSTAMP:20260424T122758
CREATED:20201104T184515Z
LAST-MODIFIED:20201104T184548Z
UID:17919-1606041000-1606087800@westminsterlincoln.org
SUMMARY:ANNUAL MEETING of the Corporation and the Congregation
DESCRIPTION:Annual Meeting of the Corporation and the Congregation \nSunday\, November 22\, 2020 | On Zoom at 10:30 am \n\nThe purpose of the meeting will be to elect officers for 2021 and to hear the report of the corporation. A Zoom link will be shared in the e-Vine and congregational communicaIons the week of the meeting.
URL:https://westminsterlincoln.org/event/annual-meeting-of-the-corporation-and-the-congregation/
CATEGORIES:Fellowship,religion
ATTACH;FMTTYPE=image/jpeg:https://westminsterlincoln.org/wp-content/uploads/2020/11/2020-am-events-page_0.jpg
END:VEVENT
END:VCALENDAR