BEGIN:VCALENDAR
VERSION:2.0
PRODID:-//Westminster Presbyterian Church - ECPv6.15.20//NONSGML v1.0//EN
CALSCALE:GREGORIAN
METHOD:PUBLISH
X-WR-CALNAME:Westminster Presbyterian Church
X-ORIGINAL-URL:https://westminsterlincoln.org
X-WR-CALDESC:Events for Westminster Presbyterian Church
REFRESH-INTERVAL;VALUE=DURATION:PT1H
X-Robots-Tag:noindex
X-PUBLISHED-TTL:PT1H
BEGIN:VTIMEZONE
TZID:UTC
BEGIN:STANDARD
TZOFFSETFROM:+0000
TZOFFSETTO:+0000
TZNAME:UTC
DTSTART:20210101T000000
END:STANDARD
END:VTIMEZONE
BEGIN:VEVENT
DTSTART;TZID=UTC:20221004T113000
DTEND;TZID=UTC:20221004T130000
DTSTAMP:20260420T203001
CREATED:20220915T190911Z
LAST-MODIFIED:20220915T190911Z
UID:20627-1664883000-1664888400@westminsterlincoln.org
SUMMARY:Lunch Bunch
DESCRIPTION:Lunch Bunch will be at The Garage at 5551 S.48th St. on Tuesday\, October 4\, 11:30 A.M.
URL:https://westminsterlincoln.org/event/lunch-bunch-36/
CATEGORIES:Fellowship,Life Group,Lunch Bunch,small group
ATTACH;FMTTYPE=image/png:https://westminsterlincoln.org/wp-content/uploads/2022/09/October-Lunch-Bunch.png
END:VEVENT
END:VCALENDAR