BEGIN:VCALENDAR
VERSION:2.0
PRODID:-//Westminster Presbyterian Church - ECPv6.15.20//NONSGML v1.0//EN
CALSCALE:GREGORIAN
METHOD:PUBLISH
X-ORIGINAL-URL:https://westminsterlincoln.org
X-WR-CALDESC:Events for Westminster Presbyterian Church
REFRESH-INTERVAL;VALUE=DURATION:PT1H
X-Robots-Tag:noindex
X-PUBLISHED-TTL:PT1H
BEGIN:VTIMEZONE
TZID:UTC
BEGIN:STANDARD
TZOFFSETFROM:+0000
TZOFFSETTO:+0000
TZNAME:UTC
DTSTART:20200101T000000
END:STANDARD
END:VTIMEZONE
BEGIN:VEVENT
DTSTART;TZID=UTC:20220629T170000
DTEND;TZID=UTC:20220629T190000
DTSTAMP:20260422T100056
CREATED:20220606T213420Z
LAST-MODIFIED:20220606T213420Z
UID:20245-1656522000-1656529200@westminsterlincoln.org
SUMMARY:Ladies Night Out
DESCRIPTION:Ladies Night Out | Wednesday\, June 29th\, 5-7 PM Schilling Bridge\, 575 Fallbrook Blvd\, Suite 109 \nFeel free to invite a friend\, neighbor\, or relative to all our gatherings. \nhttp://schillingbridgecorkandtap.com
URL:https://westminsterlincoln.org/event/ladies-night-out-36/
CATEGORIES:Fellowship,Ladies Nigt Out,Life Group,small group
ATTACH;FMTTYPE=image/jpeg:https://westminsterlincoln.org/wp-content/uploads/2022/06/LNO.jpg
END:VEVENT
BEGIN:VEVENT
DTSTART;TZID=UTC:20220531T170000
DTEND;TZID=UTC:20220531T190000
DTSTAMP:20260422T100056
CREATED:20220510T230637Z
LAST-MODIFIED:20220510T230643Z
UID:20017-1654016400-1654023600@westminsterlincoln.org
SUMMARY:Ladies Night Out
DESCRIPTION:We will be gathering at Daq Shack\, Tuesday\, May 31 from  5-7 p.m. https://www.drinkdaqshack.com/. \nAs always\, feel free to bring a friend\, sister\, aunt\, daughter or mother to all our gatherings. \n*RSVP by Sunday\, May 29th to robynu2@hotmail.com
URL:https://westminsterlincoln.org/event/ladies-night-out-35/
CATEGORIES:Fellowship,Ladies Nigt Out,Life Group,small group
ATTACH;FMTTYPE=image/jpeg:https://westminsterlincoln.org/wp-content/uploads/2022/05/LNO.jpg
END:VEVENT
BEGIN:VEVENT
DTSTART;TZID=UTC:20220428T170000
DTEND;TZID=UTC:20220428T190000
DTSTAMP:20260422T100056
CREATED:20220405T132247Z
LAST-MODIFIED:20220405T132318Z
UID:19804-1651165200-1651172400@westminsterlincoln.org
SUMMARY:Ladies Night Out 
DESCRIPTION:LNO is gathering at Tico’s this month. Tico’s is located at  317 S 17th Street. As always\, feel free to bring a friend\, sister\, aunt\, daughter or mother to all our gatherings.
URL:https://westminsterlincoln.org/event/ladies-night-out-34/
CATEGORIES:Fellowship,Ladies Nigt Out,small group
END:VEVENT
BEGIN:VEVENT
DTSTART;TZID=UTC:20220329T170000
DTEND;TZID=UTC:20220329T190000
DTSTAMP:20260422T100056
CREATED:20220223T212858Z
LAST-MODIFIED:20220224T004900Z
UID:19514-1648573200-1648580400@westminsterlincoln.org
SUMMARY:Ladies Night Out
DESCRIPTION:Ladies Night Out | Billy’s | March 29 | 5:00 – 7:00 PM  \nMar 29 ~ Billy’s $14.00/per person. Includes assortment of heavy appetizers served family style. (Drink\, tax and tip additional).  As always\, feel free to bring a friend\, sister\, aunt\, daughter or mother to all our gatherings.
URL:https://westminsterlincoln.org/event/ladies-night-out-33/
CATEGORIES:Fellowship,Ladies Nigt Out,Life Group,small group
ATTACH;FMTTYPE=image/jpeg:https://westminsterlincoln.org/wp-content/uploads/2022/02/Billys.jpg
END:VEVENT
BEGIN:VEVENT
DTSTART;TZID=UTC:20220215T170000
DTEND;TZID=UTC:20220215T190000
DTSTAMP:20260422T100056
CREATED:20220202T172525Z
LAST-MODIFIED:20220202T172525Z
UID:19436-1644944400-1644951600@westminsterlincoln.org
SUMMARY:Ladies Night Out
DESCRIPTION:Ladies Night Out | Tavern 180 | Tuesday\, February 15 | 5:00 – 7:00 PM  \nWe are meeting at Tavern 180\, 8600 South 30th Street http://www.tavern180.com/  \n**Please note\, this is a location change from an earlier invite sent. \nAs always\, feel free to bring a friend\, sister\, aunt\, daughter or mother to all our gatherings.
URL:https://westminsterlincoln.org/event/ladies-night-out-32/
CATEGORIES:Fellowship,Ladies Nigt Out,Life Group,small group
ATTACH;FMTTYPE=image/png:https://westminsterlincoln.org/wp-content/uploads/2022/02/LNO-February.png
END:VEVENT
BEGIN:VEVENT
DTSTART;TZID=UTC:20220131T170000
DTEND;TZID=UTC:20220131T190000
DTSTAMP:20260422T100056
CREATED:20211229T204207Z
LAST-MODIFIED:20211229T204342Z
UID:19300-1643648400-1643655600@westminsterlincoln.org
SUMMARY:Ladies Night Out
DESCRIPTION:Ladies Night Out | Billy’s | Monday\, January 31 | 5:00 – 7:00 PM  \nWe will be gathering at Billy’s Restaurant\, 1301 H Street. The cost is $14.00/per person (plus\, the cost of your drink and tip) and served family style. Our prearranged pricing takes into consideration what Nader has available in his kitchen. As always\, feel free to bring a friend\, sister\, aunt\, daughter or mother to all our gatherings.
URL:https://westminsterlincoln.org/event/ladies-night-out-31/
CATEGORIES:Fellowship,Ladies Nigt Out
ATTACH;FMTTYPE=image/jpeg:https://westminsterlincoln.org/wp-content/uploads/2021/12/13406-Library-2021-Ladies-Night-Out-Web-Banners634-x-423-BGL-Website.jpg
END:VEVENT
BEGIN:VEVENT
DTSTART;TZID=UTC:20211230T170000
DTEND;TZID=UTC:20211230T190000
DTSTAMP:20260422T100056
CREATED:20211130T135745Z
LAST-MODIFIED:20211130T135843Z
UID:19149-1640883600-1640890800@westminsterlincoln.org
SUMMARY:Ladies Night Out
DESCRIPTION:Ladies Night out will be at Napoli’s on South 48th Street (48th & Hwy 2). Feel free to bring a friend\, sister\, aunt\, daughter and/or mother to all our gatherings.
URL:https://westminsterlincoln.org/event/ladies-night-out-30/
CATEGORIES:Fellowship,Ladies Nigt Out
ATTACH;FMTTYPE=image/png:https://westminsterlincoln.org/wp-content/uploads/2021/11/Ladies-Night-Out-December.png
END:VEVENT
BEGIN:VEVENT
DTSTART;TZID=UTC:20211130T170000
DTEND;TZID=UTC:20211130T190000
DTSTAMP:20260422T100056
CREATED:20211025T161200Z
LAST-MODIFIED:20211025T161211Z
UID:19021-1638291600-1638298800@westminsterlincoln.org
SUMMARY:Ladies Night Out
DESCRIPTION:Ladies Night Out | Billy’s | Tuesday\, November 30 | 5:00 – 7:00 PM  \nLadies Night out will be at Billy’s located at 1301 H St\, Lincoln\, NE 68508. Please feel free to bring a friend\, sister\, aunt\, daughter or mother to all our gatherings.
URL:https://westminsterlincoln.org/event/ladies-night-out-29/
CATEGORIES:Fellowship,Ladies Nigt Out
END:VEVENT
BEGIN:VEVENT
DTSTART;TZID=UTC:20211018T170000
DTEND;TZID=UTC:20211018T190000
DTSTAMP:20260422T100056
CREATED:20210914T103359Z
LAST-MODIFIED:20210914T103359Z
UID:18947-1634576400-1634583600@westminsterlincoln.org
SUMMARY:Ladies Night Out
DESCRIPTION:Ladies Night Out | MoMo’s | Monday\, October 18 | 5:00 – 7:00 PM  \nLadies Night out will be at MoMo’s  Pizzeria located at 7701 Pioneers Blvd\, Lincoln\, NE. Please feel free to bring a friend\, sister\, aunt\, daughter or mother to all our gatherings.
URL:https://westminsterlincoln.org/event/ladies-night-out-28/
CATEGORIES:Fellowship,Ladies Nigt Out
ATTACH;FMTTYPE=image/jpeg:https://westminsterlincoln.org/wp-content/uploads/2021/09/food-and-drink_italian-03-1600x350-1.jpg
END:VEVENT
BEGIN:VEVENT
DTSTART;TZID=UTC:20210831T170000
DTEND;TZID=UTC:20210831T190000
DTSTAMP:20260422T100056
CREATED:20210802T195013Z
LAST-MODIFIED:20210823T220320Z
UID:18710-1630429200-1630436400@westminsterlincoln.org
SUMMARY:Ladies Night Out
DESCRIPTION:Ladies Night Out | Toast | Tuesday\, August 31 | 5:00 – 7:00 PM  \nOur next in-person Ladies’ Night Out gathering will be at Toast Restaurant located at 570 Fallbrook Blvd #105 in Lincoln. You are welcome to drop-in anytime at your leisure. For the remainder of the year\, we plan to rotate Monday\, Tuesday and Thursday gathering dates. We will meet at Billy’s every other month (September\, November) and a variety of Lincoln restaurants (August\, October\, December). Please feel free to bring a friend\, sister\, aunt\, daughter or mother to all our gatherings.
URL:https://westminsterlincoln.org/event/ladies-night-out-26/
CATEGORIES:Fellowship,Ladies Nigt Out
ATTACH;FMTTYPE=image/png:https://westminsterlincoln.org/wp-content/uploads/2020/02/ToastDining-HomePage-LincolnNE-760x360-1.png
END:VEVENT
END:VCALENDAR