BEGIN:VCALENDAR
VERSION:2.0
PRODID:-//Westminster Presbyterian Church - ECPv6.15.20//NONSGML v1.0//EN
CALSCALE:GREGORIAN
METHOD:PUBLISH
X-ORIGINAL-URL:https://westminsterlincoln.org
X-WR-CALDESC:Events for Westminster Presbyterian Church
REFRESH-INTERVAL;VALUE=DURATION:PT1H
X-Robots-Tag:noindex
X-PUBLISHED-TTL:PT1H
BEGIN:VTIMEZONE
TZID:UTC
BEGIN:STANDARD
TZOFFSETFROM:+0000
TZOFFSETTO:+0000
TZNAME:UTC
DTSTART:20200101T000000
END:STANDARD
END:VTIMEZONE
BEGIN:VEVENT
DTSTART;TZID=UTC:20220414T190000
DTEND;TZID=UTC:20220414T200000
DTSTAMP:20260420T145738
CREATED:20220404T010616Z
LAST-MODIFIED:20220414T134025Z
UID:19690-1649962800-1649966400@westminsterlincoln.org
SUMMARY:Maundy Thursday Worship with Communion
DESCRIPTION:Maundy Thursday Worship with Communion – April 14\n7:00 pm (Sanctuary) – Maundy Thursday Worship with Communion
URL:https://westminsterlincoln.org/event/maundy-thursday-worship-with-communion/
CATEGORIES:communion,Fellowship,religion,worship
ATTACH;FMTTYPE=image/png:https://westminsterlincoln.org/wp-content/uploads/2022/04/westminster-lincoln.png
END:VEVENT
BEGIN:VEVENT
DTSTART;TZID=UTC:20220403T093000
DTEND;TZID=UTC:20220403T103000
DTSTAMP:20260420T145738
CREATED:20220214T163439Z
LAST-MODIFIED:20220214T163439Z
UID:19492-1648978200-1648981800@westminsterlincoln.org
SUMMARY:Communion Sunday Worship
DESCRIPTION:Join us at Westminster Presbyterian Church for Sanctuary Communion Sunday. We will be using pre-packaged elements.\nRead our Sanctuary Guidelines here and join us in the Sanctuary on Sundays at 9:30 a.m. if you feel comfortable in doing so.\nWatch Lincoln Westminster Presbyterian Church Virtual Worship Here:  https://westminsterlincoln.org/youtube-videos/\nTo access our livestream service:\n\nGo to the YouTube Services page on our website.\nClick on the “Click Here to Watch Live at 9:30am” sentence link if you intend to watch live or while the service is taking place (9:30-10:30/10:40am).\nIf watching live\, the video should appear as the most recent video with a title using our worship date (example: 12.5.21 Worship LIVE). Click that video to be taken to the larger version.\n\n\nPlease note the service may not appear on the Westminster Website in the playlist (boxes you click to watch) until the service has concluded. Please view using the Click Here link or direct YouTube link!\n\n\n\n\nDownload Your Virtual Worship Bulletin: https://westminsterlincoln.org/worship-bulletins/\nWorship will also be televised on Spectrum channel 1302 and Windstream channel 13 at 12:30 PM on Thursday and 1:00 PM on Saturday.
URL:https://westminsterlincoln.org/event/communion-sunday-worship-10/
CATEGORIES:communion,Fellowship,religion,worship
ATTACH;FMTTYPE=image/jpeg:https://westminsterlincoln.org/wp-content/uploads/2021/06/communion_new.jpg
END:VEVENT
BEGIN:VEVENT
DTSTART;TZID=UTC:20220306T093000
DTEND;TZID=UTC:20220306T103000
DTSTAMP:20260420T145738
CREATED:20220128T162102Z
LAST-MODIFIED:20220128T162102Z
UID:19406-1646559000-1646562600@westminsterlincoln.org
SUMMARY:Communion Sunday Worship
DESCRIPTION:Join us at Westminster Presbyterian Church for Sanctuary Communion Sunday. We will be using pre-packaged elements.\nRead our Sanctuary Guidelines here and join us in the Sanctuary on Sundays at 9:30 a.m. if you feel comfortable in doing so.\nWatch Lincoln Westminster Presbyterian Church Virtual Worship Here:  https://westminsterlincoln.org/youtube-videos/\nTo access our livestream service:\n\nGo to the YouTube Services page on our website.\nClick on the “Click Here to Watch Live at 9:30am” sentence link if you intend to watch live or while the service is taking place (9:30-10:30/10:40am).\nIf watching live\, the video should appear as the most recent video with a title using our worship date (example: 12.5.21 Worship LIVE). Click that video to be taken to the larger version.\n\n\nPlease note the service may not appear on the Westminster Website in the playlist (boxes you click to watch) until the service has concluded. Please view using the Click Here link or direct YouTube link!\n\n\n\n\nDownload Your Virtual Worship Bulletin: https://westminsterlincoln.org/worship-bulletins/\nWorship will also be televised on Spectrum channel 1302 and Windstream channel 13 at 12:30 PM on Thursday and 1:00 PM on Saturday.
URL:https://westminsterlincoln.org/event/communion-sunday-worship-9/
CATEGORIES:communion,Fellowship,religion,Virtual Gathering,virtual worship,worship
ATTACH;FMTTYPE=image/jpeg:https://westminsterlincoln.org/wp-content/uploads/2021/06/communion_new.jpg
END:VEVENT
BEGIN:VEVENT
DTSTART;TZID=UTC:20220206T093000
DTEND;TZID=UTC:20220206T103000
DTSTAMP:20260420T145738
CREATED:20211206T211701Z
LAST-MODIFIED:20211206T211737Z
UID:19203-1644139800-1644143400@westminsterlincoln.org
SUMMARY:Communion Sunday Worship
DESCRIPTION:Join us at Westminster Presbyterian Church for Sanctuary Communion Sunday. We will be using pre-packaged elements.\nRead our Sanctuary Guidelines here and join us in the Sanctuary on Sundays at 9:30 a.m. if you feel comfortable in doing so.\nWatch Lincoln Westminster Presbyterian Church Virtual Worship Here:  https://westminsterlincoln.org/youtube-videos/\nTo access our livestream service:\n\nGo to the YouTube Services page on our website.\nClick on the “Click Here to Watch Live at 9:30am” sentence link if you intend to watch live or while the service is taking place (9:30-10:30/10:40am).\nIf watching live\, the video should appear as the most recent video with a title using our worship date (example: 12.5.21 Worship LIVE). Click that video to be taken to the larger version.\n\n\nPlease note the service may not appear on the Westminster Website in the playlist (boxes you click to watch) until the service has concluded. Please view using the Click Here link or direct YouTube link!\n\n\n\n\nDownload Your Virtual Worship Bulletin: https://westminsterlincoln.org/worship-bulletins/\nWorship will also be televised on Spectrum channel 1302 and Windstream channel 13 at 12:30 PM on Thursday and 1:00 PM on Saturday.
URL:https://westminsterlincoln.org/event/communion-sunday-worship-8/
CATEGORIES:communion,Fellowship,virtual worship
ATTACH;FMTTYPE=image/jpeg:https://westminsterlincoln.org/wp-content/uploads/2021/06/communion_new.jpg
END:VEVENT
BEGIN:VEVENT
DTSTART;TZID=UTC:20220127T190000
DTEND;TZID=UTC:20220127T200000
DTSTAMP:20260420T145738
CREATED:20211229T205425Z
LAST-MODIFIED:20211229T205425Z
UID:19313-1643310000-1643313600@westminsterlincoln.org
SUMMARY:Faith to Forest—Zoom to Learn
DESCRIPTION:Faith to Forest—Zoom to Learn \nZoom in on Thursday evenings\, 7-8\, for a special series presented by Westminster friends and other experts.  Links will be posted in each week’s eVine and at https://www.firstplymouth.org/catforest \n  \nJanuary 27:  Introduction to Prairie Pruners  Lorri Grueber\, Lincoln Parks Department:  An overview\, initial training\, and next steps for joining “Prairie Pruners\,” a new volunteer program in our city parks.
URL:https://westminsterlincoln.org/event/faith-to-forest-zoom-to-learn-3/
CATEGORIES:communion,Life Group,small group,Zoom Meeting
ATTACH;FMTTYPE=image/jpeg:https://westminsterlincoln.org/wp-content/uploads/2021/12/forest.jpg
END:VEVENT
BEGIN:VEVENT
DTSTART;TZID=UTC:20220102T093000
DTEND;TZID=UTC:20220102T103000
DTSTAMP:20260420T145738
CREATED:20211206T211427Z
LAST-MODIFIED:20211206T211427Z
UID:19201-1641115800-1641119400@westminsterlincoln.org
SUMMARY:Communion Sunday Worship
DESCRIPTION:Join us at Westminster Presbyterian Church for Sanctuary Communion Sunday. We will be using pre-packaged elements.\nRead our Sanctuary Guidelines here and join us in the Sanctuary on Sundays at 9:30 a.m. if you feel comfortable in doing so.\nWatch Lincoln Westminster Presbyterian Church Virtual Worship Here:  https://westminsterlincoln.org/youtube-videos/\nTo access our livestream service:\n\nGo to the YouTube Services page on our website.\nClick on the “Click Here to Watch Live at 9:30am” sentence link if you intend to watch live or while the service is taking place (9:30-10:30/10:40am).\nIf watching live\, the video should appear as the most recent video with a title using our worship date (example: 12.5.21 Worship LIVE). Click that video to be taken to the larger version.\n\n\nPlease note the service may not appear on the Westminster Website in the playlist (boxes you click to watch) until the service has concluded. Please view using the Click Here link or direct YouTube link!\n\n\n\n\nDownload Your Virtual Worship Bulletin: https://westminsterlincoln.org/worship-bulletins/\nWorship will also be televised on Spectrum channel 1302 and Windstream channel 13 at 12:30 PM on Thursday and 1:00 PM on Saturday.
URL:https://westminsterlincoln.org/event/communion-sunday-worship-3/
CATEGORIES:communion,Fellowship,religion,virtual worship
ATTACH;FMTTYPE=image/jpeg:https://westminsterlincoln.org/wp-content/uploads/2021/06/communion_new.jpg
END:VEVENT
BEGIN:VEVENT
DTSTART;TZID=UTC:20211205T093000
DTEND;TZID=UTC:20211205T103000
DTSTAMP:20260420T145738
CREATED:20210629T170428Z
LAST-MODIFIED:20210629T170428Z
UID:18619-1638696600-1638700200@westminsterlincoln.org
SUMMARY:Communion Sunday Worship
DESCRIPTION:Join us at Westminster Presbyterian Church for Sanctuary Communion Sunday. We will be using pre-packaged elements.\nRead our Sanctuary Guidelines here and join us in the Sanctuary on Sundays at 9:30 a.m. if you feel comfortable in doing so.\nWatch Lincoln Westminster Presbyterian Church Virtual Worship Here:  https://westminsterlincoln.org/youtube-videos/\n\n\n\n\nDownload Your Virtual Worship Bulletin: https://westminsterlincoln.org/worship-bulletins/\nWorship will also be televised on Spectrum channel 1302 and Windstream channel 13 at 12:30 PM on Thursday and 1:00 PM on Saturday.
URL:https://westminsterlincoln.org/event/communion-sunday-worship-7/
CATEGORIES:communion,Fellowship,religion,worship
ATTACH;FMTTYPE=image/jpeg:https://westminsterlincoln.org/wp-content/uploads/2021/06/communion_new.jpg
END:VEVENT
BEGIN:VEVENT
DTSTART;TZID=UTC:20211107T093000
DTEND;TZID=UTC:20211107T103000
DTSTAMP:20260420T145738
CREATED:20210629T170328Z
LAST-MODIFIED:20210629T170328Z
UID:18617-1636277400-1636281000@westminsterlincoln.org
SUMMARY:Communion Sunday Worship
DESCRIPTION:Join us at Westminster Presbyterian Church for Sanctuary Communion Sunday. We will be using pre-packaged elements.\nRead our Sanctuary Guidelines here and join us in the Sanctuary on Sundays at 9:30 a.m. if you feel comfortable in doing so.\nWatch Lincoln Westminster Presbyterian Church Virtual Worship Here:  https://westminsterlincoln.org/youtube-videos/\n\n\n\n\nDownload Your Virtual Worship Bulletin: https://westminsterlincoln.org/worship-bulletins/\nWorship will also be televised on Spectrum channel 1302 and Windstream channel 13 at 12:30 PM on Thursday and 1:00 PM on Saturday.
URL:https://westminsterlincoln.org/event/communion-sunday-worship-6/
CATEGORIES:communion,Fellowship,religion,worship
ATTACH;FMTTYPE=image/jpeg:https://westminsterlincoln.org/wp-content/uploads/2021/06/communion_new.jpg
END:VEVENT
BEGIN:VEVENT
DTSTART;TZID=UTC:20211024T093000
DTEND;TZID=UTC:20211024T103000
DTSTAMP:20260420T145738
CREATED:20210809T190721Z
LAST-MODIFIED:20210809T190900Z
UID:18784-1635067800-1635071400@westminsterlincoln.org
SUMMARY:Sunday Worship
DESCRIPTION:Read our Sanctuary Guidelines here and join us in the Sanctuary on Sundays at 9:30 a.m. if you feel comfortable in doing so.\n\nWatch Lincoln Westminster Presbyterian Church Virtual Worship Here:  https://westminsterlincoln.org/youtube-videos/\n\n\n\n\n\nDownload Your Virtual Worship Bulletin: https://westminsterlincoln.org/worship-bulletins/\n\nWorship will also be televised on Spectrum channel 1302 and Windstream channel 13 at 12:30 PM on Thursday and 1:00 PM on Saturday.
URL:https://westminsterlincoln.org/event/sunday-worship-44/
CATEGORIES:communion,religion,worship
ATTACH;FMTTYPE=image/png:https://westminsterlincoln.org/wp-content/uploads/2021/05/WorshipTeamFBBanner-e1673416059761.png
END:VEVENT
BEGIN:VEVENT
DTSTART;TZID=UTC:20211003T093000
DTEND;TZID=UTC:20211003T103000
DTSTAMP:20260420T145738
CREATED:20210629T170223Z
LAST-MODIFIED:20210629T170223Z
UID:18615-1633253400-1633257000@westminsterlincoln.org
SUMMARY:Communion Sunday Worship
DESCRIPTION:Join us at Westminster Presbyterian Church for Sanctuary Communion Sunday. We will be using pre-packaged elements.\nRead our Sanctuary Guidelines here and join us in the Sanctuary on Sundays at 9:30 a.m. if you feel comfortable in doing so.\nWatch Lincoln Westminster Presbyterian Church Virtual Worship Here:  https://westminsterlincoln.org/youtube-videos/\n\n\n\n\nDownload Your Virtual Worship Bulletin: https://westminsterlincoln.org/worship-bulletins/\nWorship will also be televised on Spectrum channel 1302 and Windstream channel 13 at 12:30 PM on Thursday and 1:00 PM on Saturday.
URL:https://westminsterlincoln.org/event/communion-sunday-worship-5/
CATEGORIES:communion,Fellowship,religion,worship
ATTACH;FMTTYPE=image/jpeg:https://westminsterlincoln.org/wp-content/uploads/2021/06/communion_new.jpg
END:VEVENT
BEGIN:VEVENT
DTSTART;TZID=UTC:20210905T093000
DTEND;TZID=UTC:20210905T103000
DTSTAMP:20260420T145738
CREATED:20210629T170111Z
LAST-MODIFIED:20210629T170111Z
UID:18613-1630834200-1630837800@westminsterlincoln.org
SUMMARY:Communion Sunday Worship
DESCRIPTION:Join us at Westminster Presbyterian Church for Sanctuary Communion Sunday. We will be using pre-packaged elements.\nRead our Sanctuary Guidelines here and join us in the Sanctuary on Sundays at 9:30 a.m. if you feel comfortable in doing so.\nWatch Lincoln Westminster Presbyterian Church Virtual Worship Here:  https://westminsterlincoln.org/youtube-videos/\n\n\n\n\nDownload Your Virtual Worship Bulletin: https://westminsterlincoln.org/worship-bulletins/\nWorship will also be televised on Spectrum channel 1302 and Windstream channel 13 at 12:30 PM on Thursday and 1:00 PM on Saturday.
URL:https://westminsterlincoln.org/event/communion-sunday-worship-4/
CATEGORIES:communion,Fellowship,religion,worship
ATTACH;FMTTYPE=image/jpeg:https://westminsterlincoln.org/wp-content/uploads/2021/06/communion_new.jpg
END:VEVENT
BEGIN:VEVENT
DTSTART;TZID=UTC:20210801T093000
DTEND;TZID=UTC:20210801T103000
DTSTAMP:20260420T145738
CREATED:20210615T133041Z
LAST-MODIFIED:20210615T134029Z
UID:18576-1627810200-1627813800@westminsterlincoln.org
SUMMARY:Communion Sunday Worship
DESCRIPTION:Read our Sanctuary Guidelines here and join us in the Sanctuary on Sundays at 9:30 a.m. if you feel comfortable in doing so.\n\nWatch Lincoln Westminster Presbyterian Church Virtual Worship Here:  https://westminsterlincoln.org/youtube-videos/\n\n\n\n\n\nDownload Your Virtual Worship Bulletin: https://westminsterlincoln.org/worship-bulletins/\n\nWorship will also be televised on Spectrum channel 1302 and Windstream channel 13 at 12:30 PM on Thursday and 1:00 PM on Saturday.
URL:https://westminsterlincoln.org/event/communion-sunday-worship-2/
CATEGORIES:communion,Fellowship,religion,virtual worship,worship
ATTACH;FMTTYPE=image/jpeg:https://westminsterlincoln.org/wp-content/uploads/2021/06/communion_new.jpg
END:VEVENT
BEGIN:VEVENT
DTSTART;TZID=UTC:20210711T093000
DTEND;TZID=UTC:20210711T103000
DTSTAMP:20260420T145738
CREATED:20210615T132601Z
LAST-MODIFIED:20210629T165708Z
UID:18570-1625995800-1625999400@westminsterlincoln.org
SUMMARY:Virtual & Sanctuary Communion Sunday Worship
DESCRIPTION:We changed our July Communion date to July 11 and added Sanctuary communion using pre-packaged elements. We will resume first Sunday communions in August using pre-packaged elements.\nRead our Sanctuary Guidelines here and join us in the Sanctuary on Sundays at 9:30 a.m. if you feel comfortable in doing so.\nWatch Lincoln Westminster Presbyterian Church Virtual Worship Here:  https://westminsterlincoln.org/youtube-videos/\n\n\n\n\nDownload Your Virtual Worship Bulletin: https://westminsterlincoln.org/worship-bulletins/\nWorship will also be televised on Spectrum channel 1302 and Windstream channel 13 at 12:30 PM on Thursday and 1:00 PM on Saturday.
URL:https://westminsterlincoln.org/event/sunday-worship-32/
CATEGORIES:communion,Fellowship,religion,worship
ATTACH;FMTTYPE=image/png:https://westminsterlincoln.org/wp-content/uploads/2021/05/WorshipTeamFBBanner-e1673416059761.png
END:VEVENT
BEGIN:VEVENT
DTSTART;TZID=UTC:20210404T090000
DTEND;TZID=UTC:20210404T100000
DTSTAMP:20260420T145738
CREATED:20210311T135014Z
LAST-MODIFIED:20210311T135429Z
UID:18265-1617526800-1617530400@westminsterlincoln.org
SUMMARY:Easter Outdoor Service
DESCRIPTION:Easter Outdoor Service at Antelope Park Bandshell \n“Announced” Rev. Chris Peters preaching. \nYou are invited to bring a chair or a blanket as we gather together to worship God with joy and resurrection-hope. Due to ongoing COVID guidelines\, please wear your mask and practice physical distancing. The service will be weather-permitting. \nI pray that this Lent may be a season of self and community reflection\, as we seek to grow closer to God\, who offers grace upon grace to us in Christ Jesus.
URL:https://westminsterlincoln.org/event/easter-outdoor-service/
CATEGORIES:communion,Fellowship,religion
ATTACH;FMTTYPE=image/jpeg:https://westminsterlincoln.org/wp-content/uploads/2021/03/celebrate-easter-2015.jpg
END:VEVENT
BEGIN:VEVENT
DTSTART;VALUE=DATE:20210307
DTEND;VALUE=DATE:20210308
DTSTAMP:20260420T145738
CREATED:20210203T181558Z
LAST-MODIFIED:20210301T195720Z
UID:18123-1615075200-1615161599@westminsterlincoln.org
SUMMARY:Virtual Worship Communion & Gifts of Women Worship Service
DESCRIPTION:Virtual Communion & Gifts of Women Worship Service            \nWestminster acknowledges and celebrates this service to honor all women who answer God’s call to leadership and service. Women who nurture our faith through prayer and Bible study. Women who support the mission of the church worldwide. Women who strive for justice and peace. Women who work to build an inclusive\, caring community. On this Gifts of Women Sunday we honor Susie Hughes and Glenna Haller with the PW Honorary Life Membership. They now belong to an honored community of folks recognized for their leadership\, service\, and faith.  Congratulations Susie and Glenna! \nThe General Assembly Council and Clerk have given churches leave to have members prepare their own elements at home and receive as they watch virtual worship. Before you watch the Communion service\, please have bread (of any sort) and a cup of grape juice or wine for each member of your household who is watching. \nWorship will also be televised onSpectrum channel 1302 and Windstream channel 13 at 12:30 PM on Thursday and 1:00 PM on Saturday. \nDownload your Online Worship Bulletin at https://westminsterlincoln.org/worship-bulletins/
URL:https://westminsterlincoln.org/event/virtual-worship-communion-2/
CATEGORIES:communion,virtual worship,worship
ATTACH;FMTTYPE=image/jpeg:https://westminsterlincoln.org/wp-content/uploads/2020/12/maxresdefault.jpg
END:VEVENT
END:VCALENDAR