BEGIN:VCALENDAR
VERSION:2.0
PRODID:-//Westminster Presbyterian Church - ECPv6.15.20//NONSGML v1.0//EN
CALSCALE:GREGORIAN
METHOD:PUBLISH
X-ORIGINAL-URL:https://westminsterlincoln.org
X-WR-CALDESC:Events for Westminster Presbyterian Church
REFRESH-INTERVAL;VALUE=DURATION:PT1H
X-Robots-Tag:noindex
X-PUBLISHED-TTL:PT1H
BEGIN:VTIMEZONE
TZID:UTC
BEGIN:STANDARD
TZOFFSETFROM:+0000
TZOFFSETTO:+0000
TZNAME:UTC
DTSTART:20240101T000000
END:STANDARD
END:VTIMEZONE
BEGIN:VEVENT
DTSTART;TZID=UTC:20250521T130000
DTEND;TZID=UTC:20250521T143000
DTSTAMP:20260424T211850
CREATED:20250519T165353Z
LAST-MODIFIED:20250519T165353Z
UID:24777-1747832400-1747837800@westminsterlincoln.org
SUMMARY:Prairie Readers
DESCRIPTION:Prairie Readers will meet Wednesday May 21 at 1 PM in the Lounge.  Lisa Debuse will lead the discussion of Northwoods by Daniel Mason.  All are welcome!
URL:https://westminsterlincoln.org/event/prairie-readers-60/
END:VEVENT
BEGIN:VEVENT
DTSTART;TZID=UTC:20250521T130000
DTEND;TZID=UTC:20250521T150000
DTSTAMP:20260424T211850
CREATED:20250106T171220Z
LAST-MODIFIED:20250106T171220Z
UID:24886-1747832400-1747839600@westminsterlincoln.org
SUMMARY:Hearts & Hands
DESCRIPTION:Hearts & Hands is a fun-loving group that meets every Wednesday in the church library. All needle work\nfolks are welcome to come visit and see what you’re missing! Laughter is free. All yarn donations are\nwelcome! Questions? Call Francy Scheele\, 402-310-4212.
URL:https://westminsterlincoln.org/event/hearts-hands-14/2025-05-21/
END:VEVENT
BEGIN:VEVENT
DTSTART;TZID=UTC:20250521T183000
DTEND;TZID=UTC:20250521T200000
DTSTAMP:20260424T211850
CREATED:20250519T165432Z
LAST-MODIFIED:20250519T165432Z
UID:24779-1747852200-1747857600@westminsterlincoln.org
SUMMARY:Choir Rehearsal
DESCRIPTION:In the Sanctuary
URL:https://westminsterlincoln.org/event/choir-rehearsal-4/
END:VEVENT
END:VCALENDAR