BEGIN:VCALENDAR
VERSION:2.0
PRODID:-//Westminster Presbyterian Church - ECPv6.15.20//NONSGML v1.0//EN
CALSCALE:GREGORIAN
METHOD:PUBLISH
X-WR-CALNAME:Westminster Presbyterian Church
X-ORIGINAL-URL:https://westminsterlincoln.org
X-WR-CALDESC:Events for Westminster Presbyterian Church
REFRESH-INTERVAL;VALUE=DURATION:PT1H
X-Robots-Tag:noindex
X-PUBLISHED-TTL:PT1H
BEGIN:VTIMEZONE
TZID:UTC
BEGIN:STANDARD
TZOFFSETFROM:+0000
TZOFFSETTO:+0000
TZNAME:UTC
DTSTART:20240101T000000
END:STANDARD
END:VTIMEZONE
BEGIN:VEVENT
DTSTART;TZID=UTC:20250520T100000
DTEND;TZID=UTC:20250520T110000
DTSTAMP:20260422T104720
CREATED:20250519T165040Z
LAST-MODIFIED:20250519T165040Z
UID:24771-1747735200-1747738800@westminsterlincoln.org
SUMMARY:Faith and Cancer Support Group
DESCRIPTION:Meet in the Library
URL:https://westminsterlincoln.org/event/faith-and-cancer-support-group-11/
END:VEVENT
BEGIN:VEVENT
DTSTART;TZID=UTC:20250520T170000
DTEND;TZID=UTC:20250520T200000
DTSTAMP:20260422T104720
CREATED:20250519T165156Z
LAST-MODIFIED:20250519T165156Z
UID:24773-1747760400-1747771200@westminsterlincoln.org
SUMMARY:Preschool Graduation
DESCRIPTION:In the Sanctuary
URL:https://westminsterlincoln.org/event/preschool-graduation/
END:VEVENT
BEGIN:VEVENT
DTSTART;TZID=UTC:20250520T180000
DTEND;TZID=UTC:20250520T190000
DTSTAMP:20260422T104720
CREATED:20250519T165249Z
LAST-MODIFIED:20250519T165249Z
UID:24775-1747764000-1747767600@westminsterlincoln.org
SUMMARY:Communications and Outreach Committee Meeting
DESCRIPTION:Meet in the Lounge
URL:https://westminsterlincoln.org/event/communications-and-outreach-committee-meeting/
END:VEVENT
END:VCALENDAR