BEGIN:VCALENDAR
VERSION:2.0
PRODID:-//Westminster Presbyterian Church - ECPv6.15.20//NONSGML v1.0//EN
CALSCALE:GREGORIAN
METHOD:PUBLISH
X-WR-CALNAME:Westminster Presbyterian Church
X-ORIGINAL-URL:https://westminsterlincoln.org
X-WR-CALDESC:Events for Westminster Presbyterian Church
REFRESH-INTERVAL;VALUE=DURATION:PT1H
X-Robots-Tag:noindex
X-PUBLISHED-TTL:PT1H
BEGIN:VTIMEZONE
TZID:UTC
BEGIN:STANDARD
TZOFFSETFROM:+0000
TZOFFSETTO:+0000
TZNAME:UTC
DTSTART:20240101T000000
END:STANDARD
END:VTIMEZONE
BEGIN:VEVENT
DTSTART;TZID=UTC:20250514T130000
DTEND;TZID=UTC:20250514T150000
DTSTAMP:20260423T042032
CREATED:20250106T171220Z
LAST-MODIFIED:20250106T171220Z
UID:24885-1747227600-1747234800@westminsterlincoln.org
SUMMARY:Hearts & Hands
DESCRIPTION:Hearts & Hands is a fun-loving group that meets every Wednesday in the church library. All needle work\nfolks are welcome to come visit and see what you’re missing! Laughter is free. All yarn donations are\nwelcome! Questions? Call Francy Scheele\, 402-310-4212.
URL:https://westminsterlincoln.org/event/hearts-hands-14/2025-05-14/
END:VEVENT
BEGIN:VEVENT
DTSTART;TZID=UTC:20250514T180000
DTEND;TZID=UTC:20250514T193000
DTSTAMP:20260423T042032
CREATED:20240814T210658Z
LAST-MODIFIED:20250320T194944Z
UID:23708-1747245600-1747251000@westminsterlincoln.org
SUMMARY:@Westminster on Wednesdays
DESCRIPTION:W3 invites all WPC families and friends to a Year End Worship Service and Potluck at Antelope Park.
URL:https://westminsterlincoln.org/event/westminster-on-wednesdays-6-2025-05-14/
CATEGORIES:Children & Family,Fellowship,Wednesday Nights,Youth Group
END:VEVENT
END:VCALENDAR