BEGIN:VCALENDAR
VERSION:2.0
PRODID:-//Westminster Presbyterian Church - ECPv6.15.20//NONSGML v1.0//EN
CALSCALE:GREGORIAN
METHOD:PUBLISH
X-ORIGINAL-URL:https://westminsterlincoln.org
X-WR-CALDESC:Events for Westminster Presbyterian Church
REFRESH-INTERVAL;VALUE=DURATION:PT1H
X-Robots-Tag:noindex
X-PUBLISHED-TTL:PT1H
BEGIN:VTIMEZONE
TZID:UTC
BEGIN:STANDARD
TZOFFSETFROM:+0000
TZOFFSETTO:+0000
TZNAME:UTC
DTSTART:20240101T000000
END:STANDARD
END:VTIMEZONE
BEGIN:VEVENT
DTSTART;TZID=UTC:20250320T070000
DTEND;TZID=UTC:20250320T080000
DTSTAMP:20260424T142628
CREATED:20250320T190841Z
LAST-MODIFIED:20250320T190841Z
UID:24502-1742454000-1742457600@westminsterlincoln.org
SUMMARY:WPC Marathon Support
DESCRIPTION:The Annual Lincoln Marathon course passes directly by Westminster\, providing us the opportunity to be welcoming. All Westminster members are invited to extend our hospitality by staffing a welcome table to distribute donut holes\, water\, Gatorade\, and bananas to runners and spectators. Also\, new this year\, we will have a coffee cart to supply caffeine for the early morning call.
URL:https://westminsterlincoln.org/event/wpc-marathon-support/
CATEGORIES:Children & Family,Special Event
END:VEVENT
BEGIN:VEVENT
DTSTART;TZID=UTC:20250320T090000
DTEND;TZID=UTC:20250320T100000
DTSTAMP:20260424T142628
CREATED:20250320T190055Z
LAST-MODIFIED:20250320T190945Z
UID:24500-1742461200-1742464800@westminsterlincoln.org
SUMMARY:Cinnamon Roll Breakfast
DESCRIPTION:Join us in Fellowship Hall between the Easter services to enjoy fresh cinnamon rolls.
URL:https://westminsterlincoln.org/event/cinnamon-roll-breakfast/
CATEGORIES:Fellowship,Special Event
END:VEVENT
BEGIN:VEVENT
DTSTART;TZID=UTC:20250320T150000
DTEND;TZID=UTC:20250320T170000
DTSTAMP:20260424T142628
CREATED:20250320T195241Z
LAST-MODIFIED:20250320T195241Z
UID:24509-1742482800-1742490000@westminsterlincoln.org
SUMMARY:Youth Group: End of Year Party
DESCRIPTION:The Youth Group will celebrate the end of the school year with an afternoon party on Sunday\, May 18.
URL:https://westminsterlincoln.org/event/youth-group-end-of-year-party/
CATEGORIES:Fellowship,Youth Group
END:VEVENT
END:VCALENDAR