BEGIN:VCALENDAR
VERSION:2.0
PRODID:-//Westminster Presbyterian Church - ECPv6.15.20//NONSGML v1.0//EN
CALSCALE:GREGORIAN
METHOD:PUBLISH
X-WR-CALNAME:Westminster Presbyterian Church
X-ORIGINAL-URL:https://westminsterlincoln.org
X-WR-CALDESC:Events for Westminster Presbyterian Church
REFRESH-INTERVAL;VALUE=DURATION:PT1H
X-Robots-Tag:noindex
X-PUBLISHED-TTL:PT1H
BEGIN:VTIMEZONE
TZID:UTC
BEGIN:STANDARD
TZOFFSETFROM:+0000
TZOFFSETTO:+0000
TZNAME:UTC
DTSTART:20230101T000000
END:STANDARD
END:VTIMEZONE
BEGIN:VEVENT
DTSTART;TZID=UTC:20240221T130000
DTEND;TZID=UTC:20240221T150000
DTSTAMP:20260420T094423
CREATED:20240201T185807Z
LAST-MODIFIED:20240201T185807Z
UID:23015-1708520400-1708527600@westminsterlincoln.org
SUMMARY:Prairie Readers
DESCRIPTION:Prairie Readers will meet Wednesday\, February 21 at 1 PM in the Lounge.  \nDiana Wild will lead the discussion of Foster by Claire Keegan. This book is one the The Times( UK) Top 50 novels published in the 21st Century. This is a beautifully written story that tugs at your heart. It is a small size (5×7) and has only 92 pages!  \nAll are Welcome!!  \n  \n  \n 
URL:https://westminsterlincoln.org/event/prairie-readers-52/
CATEGORIES:Book Club,Fellowship,Life Group,small group
ATTACH;FMTTYPE=image/png:https://westminsterlincoln.org/wp-content/uploads/2024/02/Prairie-Readers-copy-e1706813870619.png
END:VEVENT
END:VCALENDAR