BEGIN:VCALENDAR
VERSION:2.0
PRODID:-//Westminster Presbyterian Church - ECPv6.15.20//NONSGML v1.0//EN
CALSCALE:GREGORIAN
METHOD:PUBLISH
X-ORIGINAL-URL:https://westminsterlincoln.org
X-WR-CALDESC:Events for Westminster Presbyterian Church
REFRESH-INTERVAL;VALUE=DURATION:PT1H
X-Robots-Tag:noindex
X-PUBLISHED-TTL:PT1H
BEGIN:VTIMEZONE
TZID:UTC
BEGIN:STANDARD
TZOFFSETFROM:+0000
TZOFFSETTO:+0000
TZNAME:UTC
DTSTART:20220101T000000
END:STANDARD
END:VTIMEZONE
BEGIN:VEVENT
DTSTART;TZID=UTC:20230801T113000
DTEND;TZID=UTC:20230801T130000
DTSTAMP:20260423T121200
CREATED:20230718T180614Z
LAST-MODIFIED:20230718T180614Z
UID:22344-1690889400-1690894800@westminsterlincoln.org
SUMMARY:Lunch Bunch
DESCRIPTION:Lunch Bunch will meet Tuesday\, August 1\, 11:30 A.M.\, at Hi-Way Diner\, 2105 Nebraska Parkway (Hwy 2).
URL:https://westminsterlincoln.org/event/lunch-bunch-45/
CATEGORIES:Fellowship,Life Group,Lunch Bunch,small group
ATTACH;FMTTYPE=image/png:https://westminsterlincoln.org/wp-content/uploads/2023/07/Lunch-Bunch-e1689703504556.png
END:VEVENT
END:VCALENDAR