BEGIN:VCALENDAR
VERSION:2.0
PRODID:-//Westminster Presbyterian Church - ECPv6.15.20//NONSGML v1.0//EN
CALSCALE:GREGORIAN
METHOD:PUBLISH
X-ORIGINAL-URL:https://westminsterlincoln.org
X-WR-CALDESC:Events for Westminster Presbyterian Church
REFRESH-INTERVAL;VALUE=DURATION:PT1H
X-Robots-Tag:noindex
X-PUBLISHED-TTL:PT1H
BEGIN:VTIMEZONE
TZID:UTC
BEGIN:STANDARD
TZOFFSETFROM:+0000
TZOFFSETTO:+0000
TZNAME:UTC
DTSTART:20220101T000000
END:STANDARD
END:VTIMEZONE
BEGIN:VEVENT
DTSTART;TZID=UTC:20230709T093000
DTEND;TZID=UTC:20230709T103000
DTSTAMP:20260421T131330
CREATED:20230613T005303Z
LAST-MODIFIED:20230613T005651Z
UID:22233-1688895000-1688898600@westminsterlincoln.org
SUMMARY:Worship Series
DESCRIPTION:What to Expect in Worship: Sunday\, July 9th \nOn July 9th\, we begin a new series focusing on the 7th and 8th chapters of Romans: Rethinking Redemption. This Sunday’s texts are Psalm 145:8-14 and Romans 7:15-25a\, and our sermon\, “I’m the Problem\, It’s Me” takes some outside inspiration from Taylor Swift! As a congregation we will sing\, “God is Here!\,” “Come\, Ye Sinners\, Poor and Needy\,” and a inspiring meditative piece\, “Amen.”
URL:https://westminsterlincoln.org/event/worship-series-3/
CATEGORIES:Fellowship,religion,worship
ATTACH;FMTTYPE=image/png:https://westminsterlincoln.org/wp-content/uploads/2023/06/UPDATE-Rethinking-Redemption-w-scriptures-1-e1686617509872.png
END:VEVENT
END:VCALENDAR