BEGIN:VCALENDAR
VERSION:2.0
PRODID:-//Westminster Presbyterian Church - ECPv6.15.20//NONSGML v1.0//EN
CALSCALE:GREGORIAN
METHOD:PUBLISH
X-ORIGINAL-URL:https://westminsterlincoln.org
X-WR-CALDESC:Events for Westminster Presbyterian Church
REFRESH-INTERVAL;VALUE=DURATION:PT1H
X-Robots-Tag:noindex
X-PUBLISHED-TTL:PT1H
BEGIN:VTIMEZONE
TZID:UTC
BEGIN:STANDARD
TZOFFSETFROM:+0000
TZOFFSETTO:+0000
TZNAME:UTC
DTSTART:20220101T000000
END:STANDARD
END:VTIMEZONE
BEGIN:VEVENT
DTSTART;TZID=UTC:20230530T170000
DTEND;TZID=UTC:20230530T190000
DTSTAMP:20260421T001927
CREATED:20230425T004658Z
LAST-MODIFIED:20230425T004658Z
UID:21977-1685466000-1685473200@westminsterlincoln.org
SUMMARY:Ladies' Night Out
DESCRIPTION:Our May Ladies’ Night Out will be Tuesday\, May 30; 5-7 PM; HF Crave 4800 Holdrege St. Suite 100. All women are welcome\, bring a friend!  Check out their menu here: www.Hfcrave.com
URL:https://westminsterlincoln.org/event/ladies-night-out-46/
CATEGORIES:Fellowship,Ladies Nigt Out,Life Group,small group
ATTACH;FMTTYPE=image/png:https://westminsterlincoln.org/wp-content/uploads/2023/04/LNO-e1682383604776.png
END:VEVENT
END:VCALENDAR