BEGIN:VCALENDAR
VERSION:2.0
PRODID:-//Westminster Presbyterian Church - ECPv6.15.20//NONSGML v1.0//EN
CALSCALE:GREGORIAN
METHOD:PUBLISH
X-ORIGINAL-URL:https://westminsterlincoln.org
X-WR-CALDESC:Events for Westminster Presbyterian Church
REFRESH-INTERVAL;VALUE=DURATION:PT1H
X-Robots-Tag:noindex
X-PUBLISHED-TTL:PT1H
BEGIN:VTIMEZONE
TZID:UTC
BEGIN:STANDARD
TZOFFSETFROM:+0000
TZOFFSETTO:+0000
TZNAME:UTC
DTSTART:20220101T000000
END:STANDARD
END:VTIMEZONE
BEGIN:VEVENT
DTSTART;TZID=UTC:20230528T093000
DTEND;TZID=UTC:20230528T103000
DTSTAMP:20260420T071523
CREATED:20230522T224322Z
LAST-MODIFIED:20230522T224341Z
UID:22168-1685266200-1685269800@westminsterlincoln.org
SUMMARY:Pentecost Sunday
DESCRIPTION:This Sunday is Pentecost Sunday. PCUSA Pentecost Offering will be collected. \nWear RED! (Pentecost is our one standard Sunday where the liturgical color is red.)
URL:https://westminsterlincoln.org/event/pentecost-sunday-2/
CATEGORIES:Fellowship,worship
ATTACH;FMTTYPE=image/png:https://westminsterlincoln.org/wp-content/uploads/2023/05/Pentecost-1-e1684795325759.png
END:VEVENT
END:VCALENDAR