BEGIN:VCALENDAR
VERSION:2.0
PRODID:-//Westminster Presbyterian Church - ECPv6.15.20//NONSGML v1.0//EN
CALSCALE:GREGORIAN
METHOD:PUBLISH
X-ORIGINAL-URL:https://westminsterlincoln.org
X-WR-CALDESC:Events for Westminster Presbyterian Church
REFRESH-INTERVAL;VALUE=DURATION:PT1H
X-Robots-Tag:noindex
X-PUBLISHED-TTL:PT1H
BEGIN:VTIMEZONE
TZID:UTC
BEGIN:STANDARD
TZOFFSETFROM:+0000
TZOFFSETTO:+0000
TZNAME:UTC
DTSTART:20220101T000000
END:STANDARD
END:VTIMEZONE
BEGIN:VEVENT
DTSTART;TZID=UTC:20230507T183000
DTEND;TZID=UTC:20230507T200000
DTSTAMP:20260425T225928
CREATED:20230505T195704Z
LAST-MODIFIED:20230505T195704Z
UID:22019-1683484200-1683489600@westminsterlincoln.org
SUMMARY:Sunday Youth
DESCRIPTION:The Youth Group will meet in the Youth Cafe at 6:30 pm for fellowship time. \nIn Faith Village on Sunday will be looking again at how the early Christians lived and worked together. Please note: in order to allow families time to worship together\, the last Sunday children will be dismissed for Faith Village this semester will be May 21. Children’s worship bags are available every week that include supplies to help them engage in the weekly lectionary scripture.
URL:https://westminsterlincoln.org/event/sunday-youth/
CATEGORIES:Fellowship,religion
ATTACH;FMTTYPE=image/png:https://westminsterlincoln.org/wp-content/uploads/2023/05/Sunday-Youth-e1683316578820.png
END:VEVENT
END:VCALENDAR