BEGIN:VCALENDAR
VERSION:2.0
PRODID:-//Westminster Presbyterian Church - ECPv6.15.20//NONSGML v1.0//EN
CALSCALE:GREGORIAN
METHOD:PUBLISH
X-WR-CALNAME:Westminster Presbyterian Church
X-ORIGINAL-URL:https://westminsterlincoln.org
X-WR-CALDESC:Events for Westminster Presbyterian Church
REFRESH-INTERVAL;VALUE=DURATION:PT1H
X-Robots-Tag:noindex
X-PUBLISHED-TTL:PT1H
BEGIN:VTIMEZONE
TZID:UTC
BEGIN:STANDARD
TZOFFSETFROM:+0000
TZOFFSETTO:+0000
TZNAME:UTC
DTSTART:20220101T000000
END:STANDARD
END:VTIMEZONE
BEGIN:VEVENT
DTSTART;TZID=UTC:20230502T113000
DTEND;TZID=UTC:20230502T130000
DTSTAMP:20260423T060554
CREATED:20230418T235725Z
LAST-MODIFIED:20230418T235947Z
UID:21965-1683027000-1683032400@westminsterlincoln.org
SUMMARY:Lunch Bunch
DESCRIPTION:Lunch Bunch | Tuesday\, May 2 | 11:30 a.m. at Brewski’s \nLunch Bunch will meet at Brewski’s\, 70th & Van Dorn\, at 11:30 A.M.\, Tuesday\, May 2 at 11:30 A.M. RSVP to Jim Kinkennon at 402-290-5888 or jimkinkennon@gmail.com.
URL:https://westminsterlincoln.org/event/lunch-bunch-43/
CATEGORIES:Fellowship,Life Group,Lunch Bunch,small group
ATTACH;FMTTYPE=image/png:https://westminsterlincoln.org/wp-content/uploads/2023/04/Lunch-Bunch-e1681862346143.png
END:VEVENT
END:VCALENDAR