BEGIN:VCALENDAR
VERSION:2.0
PRODID:-//Westminster Presbyterian Church - ECPv6.15.20//NONSGML v1.0//EN
CALSCALE:GREGORIAN
METHOD:PUBLISH
X-WR-CALNAME:Westminster Presbyterian Church
X-ORIGINAL-URL:https://westminsterlincoln.org
X-WR-CALDESC:Events for Westminster Presbyterian Church
REFRESH-INTERVAL;VALUE=DURATION:PT1H
X-Robots-Tag:noindex
X-PUBLISHED-TTL:PT1H
BEGIN:VTIMEZONE
TZID:UTC
BEGIN:STANDARD
TZOFFSETFROM:+0000
TZOFFSETTO:+0000
TZNAME:UTC
DTSTART:20220101T000000
END:STANDARD
END:VTIMEZONE
BEGIN:VEVENT
DTSTART;VALUE=DATE:20230410
DTEND;VALUE=DATE:20230411
DTSTAMP:20260422T132927
CREATED:20230320T044008Z
LAST-MODIFIED:20230320T044058Z
UID:21870-1681084800-1681171199@westminsterlincoln.org
SUMMARY:Building Closed
DESCRIPTION:The church building will be closed after Easter on Monday\, April 10 \nfor a staff holiday. No meetings will be held at the church during this time.
URL:https://westminsterlincoln.org/event/building-closed-2/
ATTACH;FMTTYPE=image/png:https://westminsterlincoln.org/wp-content/uploads/2023/03/Building-Closed-copy-e1679287177917.png
END:VEVENT
END:VCALENDAR