BEGIN:VCALENDAR
VERSION:2.0
PRODID:-//Westminster Presbyterian Church - ECPv6.15.20//NONSGML v1.0//EN
CALSCALE:GREGORIAN
METHOD:PUBLISH
X-ORIGINAL-URL:https://westminsterlincoln.org
X-WR-CALDESC:Events for Westminster Presbyterian Church
REFRESH-INTERVAL;VALUE=DURATION:PT1H
X-Robots-Tag:noindex
X-PUBLISHED-TTL:PT1H
BEGIN:VTIMEZONE
TZID:UTC
BEGIN:STANDARD
TZOFFSETFROM:+0000
TZOFFSETTO:+0000
TZNAME:UTC
DTSTART:20210101T000000
END:STANDARD
END:VTIMEZONE
BEGIN:VEVENT
DTSTART;TZID=UTC:20220827T093000
DTEND;TZID=UTC:20220827T103000
DTSTAMP:20260419T164446
CREATED:20220627T161814Z
LAST-MODIFIED:20220809T183034Z
UID:20299-1661592600-1661596200@westminsterlincoln.org
SUMMARY:Presbyterian Women Bible Study Fall Kickoff
DESCRIPTION:ALL Westminster Presbyterian Women are INVITED to the Fall Kickoff of the PW Bible Study\n\nWe will meet in Fellowship Hall on Saturday August 27th 9:30am to 10:30am Whether you are currently in a Circle or are curious about the Study\, all are WELCOME We will preview the Bible study Celebrating Sabbath.
URL:https://westminsterlincoln.org/event/prairie-readers-32/
CATEGORIES:bible study,Fellowship,Life Group,small group
ATTACH;FMTTYPE=image/png:https://westminsterlincoln.org/wp-content/uploads/2022/08/HZN22100-Celebrating-Sabbath-cover-752x1024-1.png
END:VEVENT
END:VCALENDAR