BEGIN:VCALENDAR
VERSION:2.0
PRODID:-//Westminster Presbyterian Church - ECPv6.15.20//NONSGML v1.0//EN
CALSCALE:GREGORIAN
METHOD:PUBLISH
X-WR-CALNAME:Westminster Presbyterian Church
X-ORIGINAL-URL:https://westminsterlincoln.org
X-WR-CALDESC:Events for Westminster Presbyterian Church
REFRESH-INTERVAL;VALUE=DURATION:PT1H
X-Robots-Tag:noindex
X-PUBLISHED-TTL:PT1H
BEGIN:VTIMEZONE
TZID:UTC
BEGIN:STANDARD
TZOFFSETFROM:+0000
TZOFFSETTO:+0000
TZNAME:UTC
DTSTART:20210101T000000
END:STANDARD
END:VTIMEZONE
BEGIN:VEVENT
DTSTART;TZID=UTC:20220814T093000
DTEND;TZID=UTC:20220814T103000
DTSTAMP:20260423T232601
CREATED:20220714T191923Z
LAST-MODIFIED:20220715T034231Z
UID:20430-1660469400-1660473000@westminsterlincoln.org
SUMMARY:Blessing of the Backpacks
DESCRIPTION:We will be Blessing Backpacks on August 14 During Worship\n\nIf you are a student or educator of any kind\, come receive your blessing for the coming year. Students of all ages are encouraged to bring your backpacks to receive blessings to begin the school year with the positive energy of prayers for your safety\, health\, happiness and continued growth.
URL:https://westminsterlincoln.org/event/blessing-of-the-backpacks-4/
CATEGORIES:Fellowship,religion,worship
ATTACH;FMTTYPE=image/png:https://westminsterlincoln.org/wp-content/uploads/2022/07/Blessings-of-the-backpacks.png
END:VEVENT
END:VCALENDAR