BEGIN:VCALENDAR
VERSION:2.0
PRODID:-//Westminster Presbyterian Church - ECPv6.15.20//NONSGML v1.0//EN
CALSCALE:GREGORIAN
METHOD:PUBLISH
X-WR-CALNAME:Westminster Presbyterian Church
X-ORIGINAL-URL:https://westminsterlincoln.org
X-WR-CALDESC:Events for Westminster Presbyterian Church
REFRESH-INTERVAL;VALUE=DURATION:PT1H
X-Robots-Tag:noindex
X-PUBLISHED-TTL:PT1H
BEGIN:VTIMEZONE
TZID:UTC
BEGIN:STANDARD
TZOFFSETFROM:+0000
TZOFFSETTO:+0000
TZNAME:UTC
DTSTART:20210101T000000
END:STANDARD
END:VTIMEZONE
BEGIN:VEVENT
DTSTART;TZID=UTC:20220720T130000
DTEND;TZID=UTC:20220720T150000
DTSTAMP:20260420T193859
CREATED:20220627T163150Z
LAST-MODIFIED:20220705T212217Z
UID:20302-1658322000-1658329200@westminsterlincoln.org
SUMMARY:Prairie Readers
DESCRIPTION:Prairie Readers \nWednesday\, July 20\, 1 pm\, Lounge \n  \nBook: The Brilliant Life of Eudora Honeysett by Annie Lyons \nDiscussion leader: Becky Bockrath
URL:https://westminsterlincoln.org/event/prairie-readers-33/
CATEGORIES:Book Club,Fellowship,Life Group,small group
ATTACH;FMTTYPE=image/jpeg:https://westminsterlincoln.org/wp-content/uploads/2022/06/Prairie-Readers-July-1.jpg
END:VEVENT
END:VCALENDAR