BEGIN:VCALENDAR
VERSION:2.0
PRODID:-//Westminster Presbyterian Church - ECPv6.15.20//NONSGML v1.0//EN
CALSCALE:GREGORIAN
METHOD:PUBLISH
X-WR-CALNAME:Westminster Presbyterian Church
X-ORIGINAL-URL:https://westminsterlincoln.org
X-WR-CALDESC:Events for Westminster Presbyterian Church
REFRESH-INTERVAL;VALUE=DURATION:PT1H
X-Robots-Tag:noindex
X-PUBLISHED-TTL:PT1H
BEGIN:VTIMEZONE
TZID:UTC
BEGIN:STANDARD
TZOFFSETFROM:+0000
TZOFFSETTO:+0000
TZNAME:UTC
DTSTART:20210101T000000
END:STANDARD
END:VTIMEZONE
BEGIN:VEVENT
DTSTART;TZID=UTC:20220705T113000
DTEND;TZID=UTC:20220705T130000
DTSTAMP:20260419T133956
CREATED:20220615T233446Z
LAST-MODIFIED:20220615T233446Z
UID:20261-1657020600-1657026000@westminsterlincoln.org
SUMMARY:Lunch Bunch
DESCRIPTION:Lunch Bunch will meet at Stauffer’s Cafe & Pie Shoppe\, 5600 S. 48th St\, on Tuesday\, July 5. \nRSVP to Jim Kinkennon at 402-290-5888 or email to jimkinkennon@gmail.com.
URL:https://westminsterlincoln.org/event/lunch-bunch-33/
CATEGORIES:Fellowship,Life Group,small group
ATTACH;FMTTYPE=image/png:https://westminsterlincoln.org/wp-content/uploads/2022/06/Lunch-Bunch-July.png
END:VEVENT
END:VCALENDAR