BEGIN:VCALENDAR
VERSION:2.0
PRODID:-//Westminster Presbyterian Church - ECPv6.15.20//NONSGML v1.0//EN
CALSCALE:GREGORIAN
METHOD:PUBLISH
X-WR-CALNAME:Westminster Presbyterian Church
X-ORIGINAL-URL:https://westminsterlincoln.org
X-WR-CALDESC:Events for Westminster Presbyterian Church
REFRESH-INTERVAL;VALUE=DURATION:PT1H
X-Robots-Tag:noindex
X-PUBLISHED-TTL:PT1H
BEGIN:VTIMEZONE
TZID:UTC
BEGIN:STANDARD
TZOFFSETFROM:+0000
TZOFFSETTO:+0000
TZNAME:UTC
DTSTART:20210101T000000
END:STANDARD
END:VTIMEZONE
BEGIN:VEVENT
DTSTART;TZID=UTC:20221130T173000
DTEND;TZID=UTC:20221130T193000
DTSTAMP:20260423T141820
CREATED:20221115T200634Z
LAST-MODIFIED:20221115T200634Z
UID:21033-1669829400-1669836600@westminsterlincoln.org
SUMMARY:Westminster Link
DESCRIPTION:Westminster Link\n\n\nWednesday nights are a great opportunity for Children\, Youth & Adults to get together and have fun learning about God. LiNK is another opportunity for us to connect – or “link” – together as a congregation on Wednesday nights!
URL:https://westminsterlincoln.org/event/westminster-link/2022-11-30/
CATEGORIES:Fellowship,Life Group,religion,small group,Wednesday Nights
ATTACH;FMTTYPE=image/jpeg:https://westminsterlincoln.org/wp-content/uploads/2022/04/Link-e1664216374445.jpg
END:VEVENT
END:VCALENDAR