BEGIN:VCALENDAR
VERSION:2.0
PRODID:-//Westminster Presbyterian Church - ECPv6.15.20//NONSGML v1.0//EN
CALSCALE:GREGORIAN
METHOD:PUBLISH
X-ORIGINAL-URL:https://westminsterlincoln.org
X-WR-CALDESC:Events for Westminster Presbyterian Church
REFRESH-INTERVAL;VALUE=DURATION:PT1H
X-Robots-Tag:noindex
X-PUBLISHED-TTL:PT1H
BEGIN:VTIMEZONE
TZID:UTC
BEGIN:STANDARD
TZOFFSETFROM:+0000
TZOFFSETTO:+0000
TZNAME:UTC
DTSTART:20240101T000000
END:STANDARD
END:VTIMEZONE
BEGIN:VEVENT
DTSTART;TZID=UTC:20250114T100000
DTEND;TZID=UTC:20250114T110000
DTSTAMP:20260422T081227
CREATED:20250106T172003Z
LAST-MODIFIED:20250106T172003Z
UID:24204-1736848800-1736852400@westminsterlincoln.org
SUMMARY:Circle 5 Meeting
DESCRIPTION:
URL:https://westminsterlincoln.org/event/circle-5-meeting/2025-01-14/
END:VEVENT
END:VCALENDAR