BEGIN:VCALENDAR
VERSION:2.0
PRODID:-//Westminster Presbyterian Church - ECPv6.15.20//NONSGML v1.0//EN
CALSCALE:GREGORIAN
METHOD:PUBLISH
X-ORIGINAL-URL:https://westminsterlincoln.org
X-WR-CALDESC:Events for Westminster Presbyterian Church
REFRESH-INTERVAL;VALUE=DURATION:PT1H
X-Robots-Tag:noindex
X-PUBLISHED-TTL:PT1H
BEGIN:VTIMEZONE
TZID:UTC
BEGIN:STANDARD
TZOFFSETFROM:+0000
TZOFFSETTO:+0000
TZNAME:UTC
DTSTART:20210101T000000
END:STANDARD
END:VTIMEZONE
BEGIN:VEVENT
DTSTART;TZID=UTC:20221211T104000
DTEND;TZID=UTC:20221211T120000
DTSTAMP:20260424T061816
CREATED:20221103T145337Z
LAST-MODIFIED:20221103T145337Z
UID:20952-1670755200-1670760000@westminsterlincoln.org
SUMMARY:Adult Education Advent
DESCRIPTION:A Branch Shall Grow \nHave you ever thought of Advent as a time of growth? Have you ever wondered if your neighbor would welcome an invitation to attend church with you? Isaiah begins chapter 11 with “A shoot shall come out from the stump of Jesse\, and a branch shall grow out of his roots.” What if we understood that that shoot\, the Messiah\, was calling us to be sharers of the Word not just hearers? \nJoin us in the Parlor at 10:40 a.m.\, Sunday\, November 27\, the First Sunday of Advent as we begin an exploration of the message for us this Advent 2022. \nNovember 27 “The Good News for All Nations”:  Isaiah 11:1-10 – Matthew 3:1-12 \nDecember 11 “The Holy Highway”:  Isaiah 35:1-10 – Luke 1:46b-55 \nDecember 18 “Immanuel\, God with Us”:  Romans 1:1-7 – Matthew 1:18-25
URL:https://westminsterlincoln.org/event/adult-education-advent-2/2022-12-11/
CATEGORIES:bible study,Fellowship,religion,small group
ATTACH;FMTTYPE=image/png:https://westminsterlincoln.org/wp-content/uploads/2022/11/Ellens-Class-e1667486838782.png
END:VEVENT
END:VCALENDAR